BEGIN:VCALENDAR
VERSION:2.0
PRODID:-//DuPage Event Center &amp; Fairgrounds. - ECPv6.15.20//NONSGML v1.0//EN
CALSCALE:GREGORIAN
METHOD:PUBLISH
X-ORIGINAL-URL:https://dupagecountyfair.org
X-WR-CALDESC:Events for DuPage Event Center &amp; Fairgrounds.
REFRESH-INTERVAL;VALUE=DURATION:PT1H
X-Robots-Tag:noindex
X-PUBLISHED-TTL:PT1H
BEGIN:VTIMEZONE
TZID:America/Chicago
BEGIN:DAYLIGHT
TZOFFSETFROM:-0600
TZOFFSETTO:-0500
TZNAME:CDT
DTSTART:20210314T080000
END:DAYLIGHT
BEGIN:STANDARD
TZOFFSETFROM:-0500
TZOFFSETTO:-0600
TZNAME:CST
DTSTART:20211107T070000
END:STANDARD
BEGIN:DAYLIGHT
TZOFFSETFROM:-0600
TZOFFSETTO:-0500
TZNAME:CDT
DTSTART:20220313T080000
END:DAYLIGHT
BEGIN:STANDARD
TZOFFSETFROM:-0500
TZOFFSETTO:-0600
TZNAME:CST
DTSTART:20221106T070000
END:STANDARD
BEGIN:DAYLIGHT
TZOFFSETFROM:-0600
TZOFFSETTO:-0500
TZNAME:CDT
DTSTART:20230312T080000
END:DAYLIGHT
BEGIN:STANDARD
TZOFFSETFROM:-0500
TZOFFSETTO:-0600
TZNAME:CST
DTSTART:20231105T070000
END:STANDARD
END:VTIMEZONE
BEGIN:VEVENT
DTSTART;TZID=America/Chicago:20220318T180000
DTEND;TZID=America/Chicago:20220319T210000
DTSTAMP:20260425T164721
CREATED:20220210T184405Z
LAST-MODIFIED:20220907T173929Z
UID:10000280-1647626400-1647723600@dupagecountyfair.org
SUMMARY:DuPage Doubles Resale Pick-Up
DESCRIPTION:Now that you’ve snagged all the great deals online\, pickup your purchases at the DuPage County Fairgrounds. \nBuilding 1 \nFriday\, March 18\, 20226:00 PM – 9:00 PMSat\, March 19\, 20229:00 AM – 1:00 PM \nhttps://dupagedoublesfamiliesofmultiplesclub.wildapricot.org/event-4507386
URL:https://dupagecountyfair.org/event/dupage-doubles-resale-pick-up-2/
LOCATION:DuPage County Fairgrounds\, 2015 Manchester Road\, Wheaton\, IL\, 60187\, United States
ATTACH;FMTTYPE=image/png:https://dupagecountyfair.org/wp-content/uploads/2021/08/007b920a12b487e15f8fbdc8caaf6122.png
END:VEVENT
END:VCALENDAR