BEGIN:VCALENDAR
VERSION:2.0
PRODID:-//DuPage Event Center &amp; Fairgrounds. - ECPv6.15.20//NONSGML v1.0//EN
CALSCALE:GREGORIAN
METHOD:PUBLISH
X-WR-CALNAME:DuPage Event Center &amp; Fairgrounds.
X-ORIGINAL-URL:https://dupagecountyfair.org
X-WR-CALDESC:Events for DuPage Event Center &amp; Fairgrounds.
REFRESH-INTERVAL;VALUE=DURATION:PT1H
X-Robots-Tag:noindex
X-PUBLISHED-TTL:PT1H
BEGIN:VTIMEZONE
TZID:America/Chicago
BEGIN:DAYLIGHT
TZOFFSETFROM:-0600
TZOFFSETTO:-0500
TZNAME:CDT
DTSTART:20210314T080000
END:DAYLIGHT
BEGIN:STANDARD
TZOFFSETFROM:-0500
TZOFFSETTO:-0600
TZNAME:CST
DTSTART:20211107T070000
END:STANDARD
BEGIN:DAYLIGHT
TZOFFSETFROM:-0600
TZOFFSETTO:-0500
TZNAME:CDT
DTSTART:20220313T080000
END:DAYLIGHT
BEGIN:STANDARD
TZOFFSETFROM:-0500
TZOFFSETTO:-0600
TZNAME:CST
DTSTART:20221106T070000
END:STANDARD
BEGIN:DAYLIGHT
TZOFFSETFROM:-0600
TZOFFSETTO:-0500
TZNAME:CDT
DTSTART:20230312T080000
END:DAYLIGHT
BEGIN:STANDARD
TZOFFSETFROM:-0500
TZOFFSETTO:-0600
TZNAME:CST
DTSTART:20231105T070000
END:STANDARD
END:VTIMEZONE
BEGIN:VEVENT
DTSTART;TZID=America/Chicago:20220320T100000
DTEND;TZID=America/Chicago:20220320T160000
DTSTAMP:20260425T172851
CREATED:20220210T184800Z
LAST-MODIFIED:20220210T185220Z
UID:10000282-1647770400-1647792000@dupagecountyfair.org
SUMMARY:ESCONI 2022 Gem\, Mineral and Fossil Show
DESCRIPTION:March 19-20\, 2022Building(s): 2\, 3Hours: March 19 10am-5pmMarch 20 10am-4pm \nFREE ADMISSIONhttps://www.esconi.org/esconi_earth_science_club/2022/01/esconi-2022-gem-mineral-and-fossil-show-march-19th-and-20th-2022-gem-mineral-fossil-show-2022.html
URL:https://dupagecountyfair.org/event/esconi-2022-gem-mineral-and-fossil-show/2022-03-20/
LOCATION:DuPage County Fairgrounds\, 2015 Manchester Road\, Wheaton\, IL\, 60187\, United States
ATTACH;FMTTYPE=image/jpeg:https://dupagecountyfair.org/wp-content/uploads/2022/02/6a0105351bb26c970c02788060f49e200d.jpg
END:VEVENT
BEGIN:VEVENT
DTSTART;TZID=America/Chicago:20220320T100000
DTEND;TZID=America/Chicago:20220320T170000
DTSTAMP:20260425T172851
CREATED:20220302T150956Z
LAST-MODIFIED:20220302T151518Z
UID:10000285-1647770400-1647795600@dupagecountyfair.org
SUMMARY:Mighty Con Event – DuPage Comic Con
DESCRIPTION:Greetings Earthlings! Mighty Con is coming back to its home turf in Dupage\, IL! Sunday (yes\, Sunday\, for the first time ever) March 20th\, Mighty Con is setting up shop at the Dupage County Fairgrounds in Wheaton\, Illinois. The Dupage Mighty Con’s huge facilities will feature over 100 artist tables\, vendor booths\, and special guests.  But we’re also bringing cash prize cosplay contests\, video and table top gaming tournaments\, and a whole weekend of fun! \nSunday\, March 20\, 2022Building:110:00am – 5:00pm \nhttps://mightyconshows.com/show/dupage \n​
URL:https://dupagecountyfair.org/event/mighty-con-event-dupage-comic-con/
LOCATION:DuPage County Fairgrounds\, 2015 Manchester Road\, Wheaton\, IL\, 60187\, United States
END:VEVENT
END:VCALENDAR