BEGIN:VCALENDAR
VERSION:2.0
PRODID:-//DuPage Event Center &amp; Fairgrounds. - ECPv6.15.20//NONSGML v1.0//EN
CALSCALE:GREGORIAN
METHOD:PUBLISH
X-WR-CALNAME:DuPage Event Center &amp; Fairgrounds.
X-ORIGINAL-URL:https://dupagecountyfair.org
X-WR-CALDESC:Events for DuPage Event Center &amp; Fairgrounds.
REFRESH-INTERVAL;VALUE=DURATION:PT1H
X-Robots-Tag:noindex
X-PUBLISHED-TTL:PT1H
BEGIN:VTIMEZONE
TZID:America/Chicago
BEGIN:DAYLIGHT
TZOFFSETFROM:-0600
TZOFFSETTO:-0500
TZNAME:CDT
DTSTART:20210314T080000
END:DAYLIGHT
BEGIN:STANDARD
TZOFFSETFROM:-0500
TZOFFSETTO:-0600
TZNAME:CST
DTSTART:20211107T070000
END:STANDARD
BEGIN:DAYLIGHT
TZOFFSETFROM:-0600
TZOFFSETTO:-0500
TZNAME:CDT
DTSTART:20220313T080000
END:DAYLIGHT
BEGIN:STANDARD
TZOFFSETFROM:-0500
TZOFFSETTO:-0600
TZNAME:CST
DTSTART:20221106T070000
END:STANDARD
BEGIN:DAYLIGHT
TZOFFSETFROM:-0600
TZOFFSETTO:-0500
TZNAME:CDT
DTSTART:20230312T080000
END:DAYLIGHT
BEGIN:STANDARD
TZOFFSETFROM:-0500
TZOFFSETTO:-0600
TZNAME:CST
DTSTART:20231105T070000
END:STANDARD
END:VTIMEZONE
BEGIN:VEVENT
DTSTART;VALUE=DATE:20220326
DTEND;VALUE=DATE:20220328
DTSTAMP:20260425T222053
CREATED:20220322T141220Z
LAST-MODIFIED:20220322T141932Z
UID:10000289-1648252800-1648425599@dupagecountyfair.org
SUMMARY:POISED FOR SUCCESS Fundraising Event FLASH SALE!
DESCRIPTION:Saturday & Sunday\, March 26-279:00am – 3:00pmBuilding 5 \nhttps://www.poisedforsuccess.org/events
URL:https://dupagecountyfair.org/event/poised-for-success-fundraising-event-flash-sale/
LOCATION:DuPage County Fairgrounds\, 2015 Manchester Road\, Wheaton\, IL\, 60187\, United States
ATTACH;FMTTYPE=image/jpeg:https://dupagecountyfair.org/wp-content/uploads/2022/03/PFS-Flash-Sale-at-DuPage-Couty-Fairgroun-March-26-and-27-2020-031822.jpg
END:VEVENT
BEGIN:VEVENT
DTSTART;TZID=America/Chicago:20220327T080000
DTEND;TZID=America/Chicago:20220327T140000
DTSTAMP:20260425T222053
CREATED:20220119T224608Z
LAST-MODIFIED:20220119T225009Z
UID:10000275-1648368000-1648389600@dupagecountyfair.org
SUMMARY:Chicagoland MG Club
DESCRIPTION:Twenty fifth Annual All Sports Car Swap Meet and Autojumble \nSince 1997 the CMGC swap meet has been held at the DuPage County Fairgrounds in Wheaton\, Illinois in early spring. The site is an indoor heated facility that is centrally located approximately 30 miles due west of downtown Chicago. There will be a food vendor on site and an ATM in the building. \nBuilding(s): 2\, 3Sunday\, March 27th \nhttps://www.chicagolandmgclub.com/swapmeet/
URL:https://dupagecountyfair.org/event/chicagoland-mg-club/
LOCATION:DuPage County Fairgrounds\, 2015 Manchester Road\, Wheaton\, IL\, 60187\, United States
END:VEVENT
BEGIN:VEVENT
DTSTART;TZID=America/Chicago:20220327T080000
DTEND;TZID=America/Chicago:20220327T150000
DTSTAMP:20260425T222053
CREATED:20211122T172448Z
LAST-MODIFIED:20220301T213037Z
UID:10000270-1648368000-1648393200@dupagecountyfair.org
SUMMARY:Wheaton (Chicago) Illinois Antique Vintage Flea Market
DESCRIPTION:Building 1 \nFood Served All Day!!SUNDAY 8AM TO 3PM / $5 admissionEarly Buyer Admission (SUNDAY): $10 6AM TO 8AMRain or Shine – 1000’s of Antique Treasures!!Free Parking!!Children 12 and under free with adult.New Vendors Welcome!! \nMore Info:https://zurkopromotions.com/wheaton-chicago-illinois-antique-vintage-flea-market/
URL:https://dupagecountyfair.org/event/wheaton-chicago-illinois-antique-vintage-flea-market/2022-03-27/
LOCATION:DuPage County Fairgrounds\, 2015 Manchester Road\, Wheaton\, IL\, 60187\, United States
END:VEVENT
END:VCALENDAR