BEGIN:VCALENDAR
VERSION:2.0
PRODID:-//DuPage Event Center &amp; Fairgrounds. - ECPv6.15.20//NONSGML v1.0//EN
CALSCALE:GREGORIAN
METHOD:PUBLISH
X-WR-CALNAME:DuPage Event Center &amp; Fairgrounds.
X-ORIGINAL-URL:https://dupagecountyfair.org
X-WR-CALDESC:Events for DuPage Event Center &amp; Fairgrounds.
REFRESH-INTERVAL;VALUE=DURATION:PT1H
X-Robots-Tag:noindex
X-PUBLISHED-TTL:PT1H
BEGIN:VTIMEZONE
TZID:America/Chicago
BEGIN:DAYLIGHT
TZOFFSETFROM:-0600
TZOFFSETTO:-0500
TZNAME:CDT
DTSTART:20210314T080000
END:DAYLIGHT
BEGIN:STANDARD
TZOFFSETFROM:-0500
TZOFFSETTO:-0600
TZNAME:CST
DTSTART:20211107T070000
END:STANDARD
BEGIN:DAYLIGHT
TZOFFSETFROM:-0600
TZOFFSETTO:-0500
TZNAME:CDT
DTSTART:20220313T080000
END:DAYLIGHT
BEGIN:STANDARD
TZOFFSETFROM:-0500
TZOFFSETTO:-0600
TZNAME:CST
DTSTART:20221106T070000
END:STANDARD
BEGIN:DAYLIGHT
TZOFFSETFROM:-0600
TZOFFSETTO:-0500
TZNAME:CDT
DTSTART:20230312T080000
END:DAYLIGHT
BEGIN:STANDARD
TZOFFSETFROM:-0500
TZOFFSETTO:-0600
TZNAME:CST
DTSTART:20231105T070000
END:STANDARD
END:VTIMEZONE
BEGIN:VEVENT
DTSTART;TZID=America/Chicago:20220528T100000
DTEND;TZID=America/Chicago:20220528T230000
DTSTAMP:20260425T060732
CREATED:20210805T195131Z
LAST-MODIFIED:20220523T215506Z
UID:10000254-1653732000-1653778800@dupagecountyfair.org
SUMMARY:DuPage Community Arts Festival
DESCRIPTION:DuPage County will host its inaugural Community Arts Festival on May 28 at the DuPage County Fairgrounds. The festival will have three stages with musical acts\, along with food trucks and a beer tent providing refreshments. Local community artists will be showcasing and selling their work throughout the festival. \nGroups scheduled to perform during the festival include the headline act\, Ides of March\, and others including the Orbert Davis Quintet\, Muriel Anderson\, Ralph Covert and Ralph’s World\, Son Monarcas\, the DuPage Symphony Ensembles\, the Chicago Jazz Academy\, Vital Signs\, the Road Show Inc. Show Choir\, Elmhurst Symphony Chamber groups\, and many more\, including a visual performance by artist Lewis Achenbach. \nCome celebrate what inspires us\, moves us\, connects us\, grows us\, and heals us. \nOPEN TO PUBLIC: Saturday\, May 28th\, 2022 from 10am – 11pm.Location: North Grounds \nPLEASE ENTER THROUGH COUNTY COMPLEX. ENTER AT COUNTY FARM ROAD AND MAIN ENTRANCE \n			\n				\n				\n				\n				\n				TICKETS: \n\n\n\nPresale: \nAt the gate: \n\n\n$20.00 – Adult\n$25.00 – Adult\n\n\n$10.00 – Children Ages 3-12\n$12.00 – Children Ages 3-12\n\n\n$50.00 – Family Pass\n$60.00 – Family\n\n\nFREE – Children under 3\nFREE – Children under 3\n\n\n\n			\n			\n				\n				\n				\n				\n			\n				\n				\n				\n				\n				\n				\n				Purchase Tickets\n			\n			\n				\n				\n				\n				\n				\n				\n				\n				\n				\n				FORMS:Artisan/Vendor Information (.pdf)Artisan/Vendor Application (.pdf)Food Vendor Application (.pdf)  \n			\n			\n				\n				\n				\n				\n			\n				\n				\n			\n				\n				\n				\n				\n				\n				\n				\n				\n				\n				\n				\n				\n				\n				\n				\n				\n				\n				Entertainment Schedule\n			\n			\n				\n				\n				\n				\n			\n				\n				\n				\n				\n				\n				\n				\n				\n				\n				\n				\n					\n					\n						Northwestern Medicine Stage\n						\n10:00am – Ralph’s World\n11:30am – Road Show Inc Show Choir\n12:15pm – Chicago Jazz Acdemy\n1:30pm – Ralph Covert – The Bad Examples\n2:30pm – Nahui Ollin\n4:00pm – African Trio/Senegal Drummers\n5:00pm – Vital Signs\n7:30pm – Orbert Davis Quintet\n9:00pm – Ides of March\n\n					\n				\n			\n			\n				\n				\n				\n				\n				\n				\n				\n				\n				\n				\n					\n					\n						U.S. Bank Stage\n						\n10:00am – Silver Rose – OTSFM\n11:00am – Wood Bone & Steel – OTSFM\n12:00pm – DSO Woodwind Quintet\n1:00pm – MIC VS\n2:15pm – DSO Trombone ensemble\n3:00pm – Elmhurst Symphony duo\n4:00pm – Muriel Anderson\n5:30pm – Jonas  Friddle – OTSFM\n\n					\n				\n			\n			\n				\n				\n				\n				\n				\n				\n				\n				\n				\n				\n					\n					\n						Beer Tent Stage\n						\n12:00pm – Son Monarcos\n1:30pm – Tim Stop Band\n3:00pm – DSO Jazz Quartet\n4:45pm – Franki Valli Tribute Band\n6:00pm – Joe Filisko & Eric Noden – OTSFM\n\n					\n				\n			\n			\n				\n				\n				\n				\n			\n				\n				\n			\n				\n				\n				\n				\n				\n				\n				\n				\n				\n				\n				\n				\n				\n				\n				\n				\n				\n				Thank you to our sponsors
URL:https://dupagecountyfair.org/event/dupage-community-arts-festival/
LOCATION:DuPage County Fairgrounds\, 2015 Manchester Road\, Wheaton\, IL\, 60187\, United States
ATTACH;FMTTYPE=image/jpeg:https://dupagecountyfair.org/wp-content/uploads/2021/08/DuPage-County-Arts-Festival-Deck-072221_Page_11-scaled.jpg
END:VEVENT
END:VCALENDAR