BEGIN:VCALENDAR
VERSION:2.0
PRODID:-//DuPage Event Center &amp; Fairgrounds. - ECPv6.15.20//NONSGML v1.0//EN
CALSCALE:GREGORIAN
METHOD:PUBLISH
X-WR-CALNAME:DuPage Event Center &amp; Fairgrounds.
X-ORIGINAL-URL:https://dupagecountyfair.org
X-WR-CALDESC:Events for DuPage Event Center &amp; Fairgrounds.
REFRESH-INTERVAL;VALUE=DURATION:PT1H
X-Robots-Tag:noindex
X-PUBLISHED-TTL:PT1H
BEGIN:VTIMEZONE
TZID:America/Chicago
BEGIN:DAYLIGHT
TZOFFSETFROM:-0600
TZOFFSETTO:-0500
TZNAME:CDT
DTSTART:20210314T080000
END:DAYLIGHT
BEGIN:STANDARD
TZOFFSETFROM:-0500
TZOFFSETTO:-0600
TZNAME:CST
DTSTART:20211107T070000
END:STANDARD
BEGIN:DAYLIGHT
TZOFFSETFROM:-0600
TZOFFSETTO:-0500
TZNAME:CDT
DTSTART:20220313T080000
END:DAYLIGHT
BEGIN:STANDARD
TZOFFSETFROM:-0500
TZOFFSETTO:-0600
TZNAME:CST
DTSTART:20221106T070000
END:STANDARD
BEGIN:DAYLIGHT
TZOFFSETFROM:-0600
TZOFFSETTO:-0500
TZNAME:CDT
DTSTART:20230312T080000
END:DAYLIGHT
BEGIN:STANDARD
TZOFFSETFROM:-0500
TZOFFSETTO:-0600
TZNAME:CST
DTSTART:20231105T070000
END:STANDARD
END:VTIMEZONE
BEGIN:VEVENT
DTSTART;VALUE=DATE:20221111
DTEND;VALUE=DATE:20221114
DTSTAMP:20260425T090745
CREATED:20220301T170848Z
LAST-MODIFIED:20220823T140911Z
UID:10000283-1668124800-1668383999@dupagecountyfair.org
SUMMARY:MSF 26th Annual Harvest Pow Wow
DESCRIPTION:November 11\, 12\, 13\, 2022Building 1\, Grounds \nhttps://www.midwestsoarring.org/docs/2022HarvPWFlyer-web.pdfhttps://www.midwestsoarring.org/eventinfo.html
URL:https://dupagecountyfair.org/event/msf-26th-annual-harvest-pow-wow/
LOCATION:DuPage County Fairgrounds\, 2015 Manchester Road\, Wheaton\, IL\, 60187\, United States
ATTACH;FMTTYPE=image/jpeg:https://dupagecountyfair.org/wp-content/uploads/2022/03/2022HarvPWFlyer-web-1.jpg
END:VEVENT
END:VCALENDAR