BEGIN:VCALENDAR
VERSION:2.0
PRODID:-//DuPage Event Center &amp; Fairgrounds. - ECPv6.15.20//NONSGML v1.0//EN
CALSCALE:GREGORIAN
METHOD:PUBLISH
X-WR-CALNAME:DuPage Event Center &amp; Fairgrounds.
X-ORIGINAL-URL:https://dupagecountyfair.org
X-WR-CALDESC:Events for DuPage Event Center &amp; Fairgrounds.
REFRESH-INTERVAL;VALUE=DURATION:PT1H
X-Robots-Tag:noindex
X-PUBLISHED-TTL:PT1H
BEGIN:VTIMEZONE
TZID:America/Chicago
BEGIN:DAYLIGHT
TZOFFSETFROM:-0600
TZOFFSETTO:-0500
TZNAME:CDT
DTSTART:20220313T080000
END:DAYLIGHT
BEGIN:STANDARD
TZOFFSETFROM:-0500
TZOFFSETTO:-0600
TZNAME:CST
DTSTART:20221106T070000
END:STANDARD
BEGIN:DAYLIGHT
TZOFFSETFROM:-0600
TZOFFSETTO:-0500
TZNAME:CDT
DTSTART:20230312T080000
END:DAYLIGHT
BEGIN:STANDARD
TZOFFSETFROM:-0500
TZOFFSETTO:-0600
TZNAME:CST
DTSTART:20231105T070000
END:STANDARD
BEGIN:DAYLIGHT
TZOFFSETFROM:-0600
TZOFFSETTO:-0500
TZNAME:CDT
DTSTART:20240310T080000
END:DAYLIGHT
BEGIN:STANDARD
TZOFFSETFROM:-0500
TZOFFSETTO:-0600
TZNAME:CST
DTSTART:20241103T070000
END:STANDARD
END:VTIMEZONE
BEGIN:VEVENT
DTSTART;TZID=America/Chicago:20230401T083000
DTEND;TZID=America/Chicago:20230401T120000
DTSTAMP:20260425T193323
CREATED:20230321T203231Z
LAST-MODIFIED:20230321T204100Z
UID:10000362-1680337800-1680350400@dupagecountyfair.org
SUMMARY:SCARCE – WHEATON RECYCLING EXTRAVAGANZA
DESCRIPTION:North GroundsSaturday\, April 1\, 20238:30am-12:00pm \nhttps://www.scarce.org/event/wheaton-recycling-extravaganza-paper-shredding/
URL:https://dupagecountyfair.org/event/scarce-wheaton-recycling-extravaganza/
LOCATION:DuPage County Fairgrounds\, 2015 Manchester Road\, Wheaton\, IL\, 60187\, United States
ATTACH;FMTTYPE=image/jpeg:https://dupagecountyfair.org/wp-content/uploads/2023/03/Wheaton-Recycling-Extravaganza-2023-1.jpg
END:VEVENT
BEGIN:VEVENT
DTSTART;TZID=America/Chicago:20230401T090000
DTEND;TZID=America/Chicago:20230401T150000
DTSTAMP:20260425T193323
CREATED:20230302T224853Z
LAST-MODIFIED:20230302T225218Z
UID:10000359-1680339600-1680361200@dupagecountyfair.org
SUMMARY:DuPage Collectors Expo Show
DESCRIPTION:Saturday\, April 1\, 2023Building(s): 2-3 \nhttps://allinsulators.com/hobby/shows/ \nDuPage Collectors Expo show will be held Saturday\, April 1st\, at the DuPage County Fairgrounds\, 2015 Manchester Road\, Wheaton\, Illinois\, Hours are 9:00 AM to 3:00 PM. Items for sale & trade include: Insulators\, Lightning Rod items & Weathervanes\, Telephone & Telegraph items\, Bottles\, Jars\, etc. Info: BOB STAHR: bob@hemingray.com (630) 793-5345 and RICK SOLLER: rdmershon@aol.com (847) 782-8602.
URL:https://dupagecountyfair.org/event/dupage-collectors-expo-show/
LOCATION:DuPage County Fairgrounds\, 2015 Manchester Road\, Wheaton\, IL\, 60187\, United States
ATTACH;FMTTYPE=image/png:https://dupagecountyfair.org/wp-content/uploads/2023/03/small-162724.png
END:VEVENT
END:VCALENDAR