BEGIN:VCALENDAR
VERSION:2.0
PRODID:-//DuPage Event Center &amp; Fairgrounds. - ECPv6.15.20//NONSGML v1.0//EN
CALSCALE:GREGORIAN
METHOD:PUBLISH
X-WR-CALNAME:DuPage Event Center &amp; Fairgrounds.
X-ORIGINAL-URL:https://dupagecountyfair.org
X-WR-CALDESC:Events for DuPage Event Center &amp; Fairgrounds.
REFRESH-INTERVAL;VALUE=DURATION:PT1H
X-Robots-Tag:noindex
X-PUBLISHED-TTL:PT1H
BEGIN:VTIMEZONE
TZID:America/Chicago
BEGIN:DAYLIGHT
TZOFFSETFROM:-0600
TZOFFSETTO:-0500
TZNAME:CDT
DTSTART:20240310T080000
END:DAYLIGHT
BEGIN:STANDARD
TZOFFSETFROM:-0500
TZOFFSETTO:-0600
TZNAME:CST
DTSTART:20241103T070000
END:STANDARD
BEGIN:DAYLIGHT
TZOFFSETFROM:-0600
TZOFFSETTO:-0500
TZNAME:CDT
DTSTART:20250309T080000
END:DAYLIGHT
BEGIN:STANDARD
TZOFFSETFROM:-0500
TZOFFSETTO:-0600
TZNAME:CST
DTSTART:20251102T070000
END:STANDARD
BEGIN:DAYLIGHT
TZOFFSETFROM:-0600
TZOFFSETTO:-0500
TZNAME:CDT
DTSTART:20260308T080000
END:DAYLIGHT
BEGIN:STANDARD
TZOFFSETFROM:-0500
TZOFFSETTO:-0600
TZNAME:CST
DTSTART:20261101T070000
END:STANDARD
END:VTIMEZONE
BEGIN:VEVENT
DTSTART;VALUE=DATE:20250315
DTEND;VALUE=DATE:20250317
DTSTAMP:20260425T150548
CREATED:20250311T212423Z
LAST-MODIFIED:20250311T212551Z
UID:10000693-1741996800-1742169599@dupagecountyfair.org
SUMMARY:Greater Chicago Soap Box Derby All American WIN-ter Indoor race
DESCRIPTION:March 15\, 16\, 2925Building(s): 1 \nMarch 15 & 16\, 2025 Indoor Race
URL:https://dupagecountyfair.org/event/greater-chicago-soap-box-derby-all-american-win-ter-indoor-race/
LOCATION:DuPage County Fairgrounds\, 2015 Manchester Road\, Wheaton\, IL\, 60187\, United States
ATTACH;FMTTYPE=image/png:https://dupagecountyfair.org/wp-content/uploads/2025/03/logo-no-background.png
END:VEVENT
BEGIN:VEVENT
DTSTART;VALUE=DATE:20250315
DTEND;VALUE=DATE:20250317
DTSTAMP:20260425T150548
CREATED:20250114T222002Z
LAST-MODIFIED:20250114T222010Z
UID:10000574-1741996800-1742169599@dupagecountyfair.org
SUMMARY:ESCONI GEM\, MINERAL & FOSSIL SHOW
DESCRIPTION:March 15-16\, 2025Building(s): 2 & 3\nhttps://www.esconi.org/esconi_earth_science_club/
URL:https://dupagecountyfair.org/event/esconi-gem-mineral-fossil-show/
LOCATION:DuPage County Fairgrounds\, 2015 Manchester Road\, Wheaton\, IL\, 60187\, United States
ATTACH;FMTTYPE=image/jpeg:https://dupagecountyfair.org/wp-content/uploads/2025/01/6a0105351bb26c970c02e860d8f02e200b.jpg
END:VEVENT
END:VCALENDAR