BEGIN:VCALENDAR
VERSION:2.0
PRODID:-//DuPage Event Center &amp; Fairgrounds. - ECPv6.15.20//NONSGML v1.0//EN
CALSCALE:GREGORIAN
METHOD:PUBLISH
X-ORIGINAL-URL:https://dupagecountyfair.org
X-WR-CALDESC:Events for DuPage Event Center &amp; Fairgrounds.
REFRESH-INTERVAL;VALUE=DURATION:PT1H
X-Robots-Tag:noindex
X-PUBLISHED-TTL:PT1H
BEGIN:VTIMEZONE
TZID:America/Chicago
BEGIN:DAYLIGHT
TZOFFSETFROM:-0600
TZOFFSETTO:-0500
TZNAME:CDT
DTSTART:20240310T080000
END:DAYLIGHT
BEGIN:STANDARD
TZOFFSETFROM:-0500
TZOFFSETTO:-0600
TZNAME:CST
DTSTART:20241103T070000
END:STANDARD
BEGIN:DAYLIGHT
TZOFFSETFROM:-0600
TZOFFSETTO:-0500
TZNAME:CDT
DTSTART:20250309T080000
END:DAYLIGHT
BEGIN:STANDARD
TZOFFSETFROM:-0500
TZOFFSETTO:-0600
TZNAME:CST
DTSTART:20251102T070000
END:STANDARD
BEGIN:DAYLIGHT
TZOFFSETFROM:-0600
TZOFFSETTO:-0500
TZNAME:CDT
DTSTART:20260308T080000
END:DAYLIGHT
BEGIN:STANDARD
TZOFFSETFROM:-0500
TZOFFSETTO:-0600
TZNAME:CST
DTSTART:20261101T070000
END:STANDARD
END:VTIMEZONE
BEGIN:VEVENT
DTSTART;VALUE=DATE:20250329
DTEND;VALUE=DATE:20250331
DTSTAMP:20260423T110641
CREATED:20250311T213352Z
LAST-MODIFIED:20250311T213400Z
UID:10000694-1743206400-1743379199@dupagecountyfair.org
SUMMARY:ILLINOIS VINTAGE FEST 25
DESCRIPTION:March 29 – 30\, 202511am – 6pmBuilding(s): 1\, 2\, 3https://www.facebook.com/events/1363259031518460/
URL:https://dupagecountyfair.org/event/illinois-vintage-fest-25/
LOCATION:DuPage County Fairgrounds\, 2015 Manchester Road\, Wheaton\, IL\, 60187\, United States
ATTACH;FMTTYPE=image/jpeg:https://dupagecountyfair.org/wp-content/uploads/2025/03/289546128_193203883045141_3538355579633542747_n.jpg
END:VEVENT
END:VCALENDAR