BEGIN:VCALENDAR
VERSION:2.0
PRODID:-//DuPage Event Center &amp; Fairgrounds. - ECPv6.15.20//NONSGML v1.0//EN
CALSCALE:GREGORIAN
METHOD:PUBLISH
X-WR-CALNAME:DuPage Event Center &amp; Fairgrounds.
X-ORIGINAL-URL:https://dupagecountyfair.org
X-WR-CALDESC:Events for DuPage Event Center &amp; Fairgrounds.
REFRESH-INTERVAL;VALUE=DURATION:PT1H
X-Robots-Tag:noindex
X-PUBLISHED-TTL:PT1H
BEGIN:VTIMEZONE
TZID:America/Chicago
BEGIN:DAYLIGHT
TZOFFSETFROM:-0600
TZOFFSETTO:-0500
TZNAME:CDT
DTSTART:20200308T080000
END:DAYLIGHT
BEGIN:STANDARD
TZOFFSETFROM:-0500
TZOFFSETTO:-0600
TZNAME:CST
DTSTART:20201101T070000
END:STANDARD
BEGIN:DAYLIGHT
TZOFFSETFROM:-0600
TZOFFSETTO:-0500
TZNAME:CDT
DTSTART:20210314T080000
END:DAYLIGHT
BEGIN:STANDARD
TZOFFSETFROM:-0500
TZOFFSETTO:-0600
TZNAME:CST
DTSTART:20211107T070000
END:STANDARD
BEGIN:DAYLIGHT
TZOFFSETFROM:-0600
TZOFFSETTO:-0500
TZNAME:CDT
DTSTART:20220313T080000
END:DAYLIGHT
BEGIN:STANDARD
TZOFFSETFROM:-0500
TZOFFSETTO:-0600
TZNAME:CST
DTSTART:20221106T070000
END:STANDARD
END:VTIMEZONE
BEGIN:VEVENT
DTSTART;TZID=America/Chicago:20211219T080000
DTEND;TZID=America/Chicago:20211219T150000
DTSTAMP:20260425T092837
CREATED:20211122T172448Z
LAST-MODIFIED:20220301T213037Z
UID:10000269-1639900800-1639926000@dupagecountyfair.org
SUMMARY:Wheaton (Chicago) Illinois Antique Vintage Flea Market
DESCRIPTION:Building 1 \nFood Served All Day!!SUNDAY 8AM TO 3PM / $5 admissionEarly Buyer Admission (SUNDAY): $10 6AM TO 8AMRain or Shine – 1000’s of Antique Treasures!!Free Parking!!Children 12 and under free with adult.New Vendors Welcome!! \nMore Info:https://zurkopromotions.com/wheaton-chicago-illinois-antique-vintage-flea-market/
URL:https://dupagecountyfair.org/event/wheaton-chicago-illinois-antique-vintage-flea-market/2021-12-19/
LOCATION:DuPage County Fairgrounds\, 2015 Manchester Road\, Wheaton\, IL\, 60187\, United States
END:VEVENT
END:VCALENDAR