BEGIN:VCALENDAR
VERSION:2.0
PRODID:-//DuPage Event Center &amp; Fairgrounds. - ECPv6.15.20//NONSGML v1.0//EN
CALSCALE:GREGORIAN
METHOD:PUBLISH
X-WR-CALNAME:DuPage Event Center &amp; Fairgrounds.
X-ORIGINAL-URL:https://dupagecountyfair.org
X-WR-CALDESC:Events for DuPage Event Center &amp; Fairgrounds.
REFRESH-INTERVAL;VALUE=DURATION:PT1H
X-Robots-Tag:noindex
X-PUBLISHED-TTL:PT1H
BEGIN:VTIMEZONE
TZID:America/Chicago
BEGIN:DAYLIGHT
TZOFFSETFROM:-0600
TZOFFSETTO:-0500
TZNAME:CDT
DTSTART:20210314T080000
END:DAYLIGHT
BEGIN:STANDARD
TZOFFSETFROM:-0500
TZOFFSETTO:-0600
TZNAME:CST
DTSTART:20211107T070000
END:STANDARD
BEGIN:DAYLIGHT
TZOFFSETFROM:-0600
TZOFFSETTO:-0500
TZNAME:CDT
DTSTART:20220313T080000
END:DAYLIGHT
BEGIN:STANDARD
TZOFFSETFROM:-0500
TZOFFSETTO:-0600
TZNAME:CST
DTSTART:20221106T070000
END:STANDARD
BEGIN:DAYLIGHT
TZOFFSETFROM:-0600
TZOFFSETTO:-0500
TZNAME:CDT
DTSTART:20230312T080000
END:DAYLIGHT
BEGIN:STANDARD
TZOFFSETFROM:-0500
TZOFFSETTO:-0600
TZNAME:CST
DTSTART:20231105T070000
END:STANDARD
END:VTIMEZONE
BEGIN:VEVENT
DTSTART;VALUE=DATE:20220702
DTEND;VALUE=DATE:20220704
DTSTAMP:20260424T044613
CREATED:20220420T170212Z
LAST-MODIFIED:20220420T170519Z
UID:10000295-1656720000-1656892799@dupagecountyfair.org
SUMMARY:NEINEA 2022 NORWEGIAN ELKHOUND SPECIALTY 46th ANNUAL EVENT WEEKEND
DESCRIPTION:July 2 – 3\, 2022Buildings: 2&3 \nhttp://www.neinea.com/specialty_info.shtml
URL:https://dupagecountyfair.org/event/neinea-2022-norwegian-elkhound-specialty-46th-annual-event-weekend/
LOCATION:DuPage County Fairgrounds\, 2015 Manchester Road\, Wheaton\, IL\, 60187\, United States
END:VEVENT
BEGIN:VEVENT
DTSTART;VALUE=DATE:20220709
DTEND;VALUE=DATE:20220711
DTSTAMP:20260424T044613
CREATED:20220623T165301Z
LAST-MODIFIED:20220623T170108Z
UID:10000300-1657324800-1657497599@dupagecountyfair.org
SUMMARY:Illinois Vintage Festival 8
DESCRIPTION:ILLINOIS VINTAGE FEST 8 \nSaturday – Sunday\, July 9-10\, 2022 \nhttps://www.facebook.com/events/1175404446576113
URL:https://dupagecountyfair.org/event/illinois-vintage-festival-8/
LOCATION:DuPage County Fairgrounds\, 2015 Manchester Road\, Wheaton\, IL\, 60187\, United States
END:VEVENT
BEGIN:VEVENT
DTSTART;VALUE=DATE:20220715
DTEND;VALUE=DATE:20220718
DTSTAMP:20260424T044614
CREATED:20220616T160555Z
LAST-MODIFIED:20220623T171025Z
UID:10000299-1657843200-1658102399@dupagecountyfair.org
SUMMARY:ICNA – EID FEST
DESCRIPTION:ICNA – EID FEST \nFriday – Sunday\, July 15-17\, 2022 \nhttps://eidfest.us/
URL:https://dupagecountyfair.org/event/icna-eid-fest/
LOCATION:DuPage County Fairgrounds\, 2015 Manchester Road\, Wheaton\, IL\, 60187\, United States
END:VEVENT
BEGIN:VEVENT
DTSTART;VALUE=DATE:20220716
DTEND;VALUE=DATE:20220718
DTSTAMP:20260424T044614
CREATED:20220623T170251Z
LAST-MODIFIED:20220623T170645Z
UID:10000301-1657929600-1658102399@dupagecountyfair.org
SUMMARY:2022 ITAA OUTDOOR STATE CHAMPIONSHIPS
DESCRIPTION:2022 ITAA OUTDOOR STATE CHAMPIONSHIPS \nSaturday – Sunday\, JULY 16-17\, 2022 \nhttps://illinoistargetarchery.org/2022-itaa-outdoor-state-championships/
URL:https://dupagecountyfair.org/event/2022-itaa-outdoor-state-championships/
LOCATION:DuPage County Fairgrounds\, 2015 Manchester Road\, Wheaton\, IL\, 60187\, United States
END:VEVENT
BEGIN:VEVENT
DTSTART;VALUE=DATE:20220729
DTEND;VALUE=DATE:20220801
DTSTAMP:20260424T044614
CREATED:20220330T203239Z
LAST-MODIFIED:20220725T142116Z
UID:10000290-1659052800-1659311999@dupagecountyfair.org
SUMMARY:The DuPage County Fair 2022
DESCRIPTION:
URL:https://dupagecountyfair.org/event/the-dupage-county-fair-2022/
LOCATION:DuPage County Fairgrounds\, 2015 Manchester Road\, Wheaton\, IL\, 60187\, United States
END:VEVENT
END:VCALENDAR