BEGIN:VCALENDAR
VERSION:2.0
PRODID:-//DuPage Event Center &amp; Fairgrounds. - ECPv6.15.20//NONSGML v1.0//EN
CALSCALE:GREGORIAN
METHOD:PUBLISH
X-ORIGINAL-URL:https://dupagecountyfair.org
X-WR-CALDESC:Events for DuPage Event Center &amp; Fairgrounds.
REFRESH-INTERVAL;VALUE=DURATION:PT1H
X-Robots-Tag:noindex
X-PUBLISHED-TTL:PT1H
BEGIN:VTIMEZONE
TZID:America/Chicago
BEGIN:DAYLIGHT
TZOFFSETFROM:-0600
TZOFFSETTO:-0500
TZNAME:CDT
DTSTART:20210314T080000
END:DAYLIGHT
BEGIN:STANDARD
TZOFFSETFROM:-0500
TZOFFSETTO:-0600
TZNAME:CST
DTSTART:20211107T070000
END:STANDARD
BEGIN:DAYLIGHT
TZOFFSETFROM:-0600
TZOFFSETTO:-0500
TZNAME:CDT
DTSTART:20220313T080000
END:DAYLIGHT
BEGIN:STANDARD
TZOFFSETFROM:-0500
TZOFFSETTO:-0600
TZNAME:CST
DTSTART:20221106T070000
END:STANDARD
BEGIN:DAYLIGHT
TZOFFSETFROM:-0600
TZOFFSETTO:-0500
TZNAME:CDT
DTSTART:20230312T080000
END:DAYLIGHT
BEGIN:STANDARD
TZOFFSETFROM:-0500
TZOFFSETTO:-0600
TZNAME:CST
DTSTART:20231105T070000
END:STANDARD
END:VTIMEZONE
BEGIN:VEVENT
DTSTART;TZID=America/Chicago:20220806T090000
DTEND;TZID=America/Chicago:20220806T150000
DTSTAMP:20260422T025803
CREATED:20220803T210630Z
LAST-MODIFIED:20220803T211017Z
UID:10000305-1659776400-1659798000@dupagecountyfair.org
SUMMARY:Rustic Vintage Fair Fall Preview Market
DESCRIPTION:Come shop over 150+ local vendors and crafters at the rustic vintage fair! Shopping begins at 9am. $4 entry fee\, ample parking. Start Your fall shopping early! Find something for everyone! if you are interested in becoming a vendor\, please email rusticvintagefair@gmail.com or visit our event page. As we get closer to the event date we will be sharing photos of vendors that will be in attendance!  \nBuilding(s): 2 & 3Saturday\, Aug. 6\, 20229am-3pm \nhttps://www.facebook.com/events/666277694645951
URL:https://dupagecountyfair.org/event/rustic-vintage-fair-fall-preview-market/
LOCATION:DuPage County Fairgrounds\, 2015 Manchester Road\, Wheaton\, IL\, 60187\, United States
ATTACH;FMTTYPE=image/jpeg:https://dupagecountyfair.org/wp-content/uploads/2022/08/275384704_300708638831664_3416540718354049037_n.jpg
END:VEVENT
BEGIN:VEVENT
DTSTART;TZID=America/Chicago:20220806T100000
DTEND;TZID=America/Chicago:20220806T173000
DTSTAMP:20260422T025803
CREATED:20220804T171209Z
LAST-MODIFIED:20220804T171440Z
UID:10000306-1659780000-1659807000@dupagecountyfair.org
SUMMARY:INDIA FEST
DESCRIPTION:Saturday\, August 6\, 202210am – 5:30pmBuilding 1​ \nINDIAFEST-2022
URL:https://dupagecountyfair.org/event/india-fest/
LOCATION:DuPage County Fairgrounds\, 2015 Manchester Road\, Wheaton\, IL\, 60187\, United States
ATTACH;FMTTYPE=image/jpeg:https://dupagecountyfair.org/wp-content/uploads/2022/08/Unknown-scaled.jpeg
END:VEVENT
BEGIN:VEVENT
DTSTART;TZID=America/Chicago:20220807T090000
DTEND;TZID=America/Chicago:20220807T150000
DTSTAMP:20260422T025803
CREATED:20221028T150127Z
LAST-MODIFIED:20230920T213222Z
UID:10000323-1659862800-1659884400@dupagecountyfair.org
SUMMARY:Great Midwest Train Show
DESCRIPTION:9AM – 3PM\nBuildings: 1\, 2\, 3\n \nFor over 40 years the nation’s largest monthly model train show. See over 500 tables of new and used model trains\, accessories\, parts\, and more for sale\, as well as free giveaways to attendees and a DCC train layout for kids to operate.\nShow Features: \n\nHundreds of Tables of Trains for Sale\nExhibitors from Across the Country\nHuge Operating Model Train Displays\nFree Workshops and Demonstrations\nFree Test Track – Test Run Your Trains at the Show\nFree Door Prize Giveaways\nPlus Much\, Much More!\n\nFor tickets and more information\, visit:\nhttps://www.trainshow.com/\n​
URL:https://dupagecountyfair.org/event/great-midwest-train-show/2022-08-07/
LOCATION:DuPage County Fairgrounds\, 2015 Manchester Road\, Wheaton\, IL\, 60187\, United States
ATTACH;FMTTYPE=image/png:https://dupagecountyfair.org/wp-content/uploads/2022/10/213078157_483647596015824_7207030422614365128_n.png
END:VEVENT
BEGIN:VEVENT
DTSTART;TZID=America/Chicago:20220820T150000
DTEND;TZID=America/Chicago:20220821T030000
DTSTAMP:20260422T025803
CREATED:20220412T183722Z
LAST-MODIFIED:20220412T184507Z
UID:10000291-1661007600-1661050800@dupagecountyfair.org
SUMMARY:ZURKO’s All Night Flea Market
DESCRIPTION:World Famous Wheaton Illinois All Night Flea Market \nSaturday August 20\, 2022 \n3pm to 3am / $10. Children 12 years and under free with adult.Free parking. Tickets available at the gate. \nDuPage County Fairgrounds2015 Manchester Rd\, Wheaton\, IL 60187 \nAttention! Please use customer parking entrance: 421 N. County Farm Rd.\, Wheaton\, IL \nOutdoor vendor reservations are not required. Vendor setup is Saturday 9am to 3pm. Vendors pay at setup. We will not turn vendors away. Please call 715-526-9769 for information. Indoor vendor spaces are available for reservation. \nhttps://zurkopromotions.com/wheaton-illinois-all-night-flea-market/ \n*Unauthorized Commercial Photography Is Prohibited During Zurko Promotions Wheaton Illinois All Night Flea Market. The Wheaton All Night Flea Market (TM) is a Federal Trademark registered by Zurko Promotions.
URL:https://dupagecountyfair.org/event/zurkos-all-night-flea-market/
LOCATION:DuPage County Fairgrounds\, 2015 Manchester Road\, Wheaton\, IL\, 60187\, United States
ATTACH;FMTTYPE=image/jpeg:https://dupagecountyfair.org/wp-content/uploads/2022/04/ALL-NIGHT-FLEA-MARKET.jpeg
END:VEVENT
END:VCALENDAR