BEGIN:VCALENDAR
VERSION:2.0
PRODID:-//DuPage Event Center &amp; Fairgrounds. - ECPv6.15.20//NONSGML v1.0//EN
CALSCALE:GREGORIAN
METHOD:PUBLISH
X-ORIGINAL-URL:https://dupagecountyfair.org
X-WR-CALDESC:Events for DuPage Event Center &amp; Fairgrounds.
REFRESH-INTERVAL;VALUE=DURATION:PT1H
X-Robots-Tag:noindex
X-PUBLISHED-TTL:PT1H
BEGIN:VTIMEZONE
TZID:America/Chicago
BEGIN:DAYLIGHT
TZOFFSETFROM:-0600
TZOFFSETTO:-0500
TZNAME:CDT
DTSTART:20210314T080000
END:DAYLIGHT
BEGIN:STANDARD
TZOFFSETFROM:-0500
TZOFFSETTO:-0600
TZNAME:CST
DTSTART:20211107T070000
END:STANDARD
BEGIN:DAYLIGHT
TZOFFSETFROM:-0600
TZOFFSETTO:-0500
TZNAME:CDT
DTSTART:20220313T080000
END:DAYLIGHT
BEGIN:STANDARD
TZOFFSETFROM:-0500
TZOFFSETTO:-0600
TZNAME:CST
DTSTART:20221106T070000
END:STANDARD
BEGIN:DAYLIGHT
TZOFFSETFROM:-0600
TZOFFSETTO:-0500
TZNAME:CDT
DTSTART:20230312T080000
END:DAYLIGHT
BEGIN:STANDARD
TZOFFSETFROM:-0500
TZOFFSETTO:-0600
TZNAME:CST
DTSTART:20231105T070000
END:STANDARD
END:VTIMEZONE
BEGIN:VEVENT
DTSTART;TZID=America/Chicago:20221001T100000
DTEND;TZID=America/Chicago:20221001T150000
DTSTAMP:20260422T030339
CREATED:20220427T200625Z
LAST-MODIFIED:20220829T171358Z
UID:10000297-1664618400-1664636400@dupagecountyfair.org
SUMMARY:Midwest Dachshund Rescue CrossTown Bark Around Fundraiser and Doxie Social
DESCRIPTION:Saturday\, October 1\, 202210:00am – 3:00pmBuilding 1 \nhttp://mwdr.org/events/item/may-19-2018-cross-town-bark-around-fundraiser-and-doxie-social#.YmmYoNPMKUk
URL:https://dupagecountyfair.org/event/midwest-dachshund-rescue-crosstown-bark-around-fundraiser-and-doxie-social/
LOCATION:DuPage County Fairgrounds\, 2015 Manchester Road\, Wheaton\, IL\, 60187\, United States
ATTACH;FMTTYPE=image/jpeg:https://dupagecountyfair.org/wp-content/uploads/2022/04/Crosstown_logo_fffefb3f9eaec99a974842fadc43f8db.jpg
END:VEVENT
BEGIN:VEVENT
DTSTART;TZID=America/Chicago:20221002T090000
DTEND;TZID=America/Chicago:20221002T150000
DTSTAMP:20260422T030339
CREATED:20221028T150127Z
LAST-MODIFIED:20230920T213222Z
UID:10000325-1664701200-1664722800@dupagecountyfair.org
SUMMARY:Great Midwest Train Show
DESCRIPTION:9AM – 3PM\nBuildings: 1\, 2\, 3\n \nFor over 40 years the nation’s largest monthly model train show. See over 500 tables of new and used model trains\, accessories\, parts\, and more for sale\, as well as free giveaways to attendees and a DCC train layout for kids to operate.\nShow Features: \n\nHundreds of Tables of Trains for Sale\nExhibitors from Across the Country\nHuge Operating Model Train Displays\nFree Workshops and Demonstrations\nFree Test Track – Test Run Your Trains at the Show\nFree Door Prize Giveaways\nPlus Much\, Much More!\n\nFor tickets and more information\, visit:\nhttps://www.trainshow.com/\n​
URL:https://dupagecountyfair.org/event/great-midwest-train-show/2022-10-02/
LOCATION:DuPage County Fairgrounds\, 2015 Manchester Road\, Wheaton\, IL\, 60187\, United States
ATTACH;FMTTYPE=image/png:https://dupagecountyfair.org/wp-content/uploads/2022/10/213078157_483647596015824_7207030422614365128_n.png
END:VEVENT
BEGIN:VEVENT
DTSTART;VALUE=DATE:20221007
DTEND;VALUE=DATE:20221010
DTSTAMP:20260422T030339
CREATED:20220310T171134Z
LAST-MODIFIED:20220901T164706Z
UID:10000286-1665100800-1665359999@dupagecountyfair.org
SUMMARY:NAMI – OCTOBERFEST
DESCRIPTION:October 7 – 9\, 2022North Grounds \nJOIN US FOR:a carnival\, food & drink\, live music/entertainment\, car shows\, wine tastings\, raffles\, and more!! \nOctoberfest
URL:https://dupagecountyfair.org/event/nami-octoberfest/
LOCATION:DuPage County Fairgrounds\, 2015 Manchester Road\, Wheaton\, IL\, 60187\, United States
ATTACH;FMTTYPE=image/jpeg:https://dupagecountyfair.org/wp-content/uploads/2022/03/event-photo-take-2.jpg
END:VEVENT
BEGIN:VEVENT
DTSTART;TZID=America/Chicago:20221008T090000
DTEND;TZID=America/Chicago:20221008T170000
DTSTAMP:20260422T030339
CREATED:20220810T210415Z
LAST-MODIFIED:20220810T210749Z
UID:10000307-1665219600-1665248400@dupagecountyfair.org
SUMMARY:The Greatest Ferret Show on Earth
DESCRIPTION:Saturday\, October 8\, 2022October 8th- Open to the Public 9am-5pm$7 for Adults$3 for Children 12 and Under$15 Family RateGCFA Members: FREE
URL:https://dupagecountyfair.org/event/the-greatest-ferret-show-on-earth/
LOCATION:DuPage County Fairgrounds\, 2015 Manchester Road\, Wheaton\, IL\, 60187\, United States
ATTACH;FMTTYPE=image/png:https://dupagecountyfair.org/wp-content/uploads/2021/08/logo_alt.png
END:VEVENT
BEGIN:VEVENT
DTSTART;VALUE=DATE:20221014
DTEND;VALUE=DATE:20221016
DTSTAMP:20260422T030339
CREATED:20220420T170956Z
LAST-MODIFIED:20220420T171447Z
UID:10000296-1665705600-1665878399@dupagecountyfair.org
SUMMARY:PRAIRIE STAR QUILT GUILD 2022 QUILT SHOW
DESCRIPTION:Friday – Saturday\, October 14-15\, 2022Building: 1 \nhttps://psqg.org/quilt-show-2022/
URL:https://dupagecountyfair.org/event/prairie-star-quilt-guild-2022-quilt-show/
LOCATION:DuPage County Fairgrounds\, 2015 Manchester Road\, Wheaton\, IL\, 60187\, United States
END:VEVENT
BEGIN:VEVENT
DTSTART;TZID=America/Chicago:20221022T090000
DTEND;TZID=America/Chicago:20221022T150000
DTSTAMP:20260422T030339
CREATED:20221018T141947Z
LAST-MODIFIED:20221018T142438Z
UID:10000315-1666429200-1666450800@dupagecountyfair.org
SUMMARY:2022 Greyhounds Only Reunion
DESCRIPTION:Saturday\, October 22\, 2022Building 19am – 3pm \nhttp://www.greyhoundsonly.com/news-and-events/calendar-of-events/icalrepeat.detail/2022/10/22/10310/-/2022-greyhounds-only-reunion \nThe much loved\, much talked about Greyhounds Only Reunion — also known as the RAVE (Raffles\, Auctions\, Vendors\, Excitement!) — is back! \nThe Reunion will take place on Saturday\, October 22\, 2022 at the DuPage County Fairgrounds in Wheaton\, IL. If you haven’t attended this event before\, we strongly encourage you to bring your greyhound(s) this year! \nThe Greyhounds Only Reunion is a unique gathering of greyhounds and their families\, vendors selling items from greyhound coats\, sweaters\, collars\, boots\, and other attire\, to greyhound-themed pottery and lawn ornaments\, to dog treats\, dog feeders\, and dog toys … plus dozens of raffle baskets and silent auction items all to benefit Greyhounds Only. There will also be adoptable greyhounds\, just waiting for the right person to lead them gently into retirement. \nSpecial note: Although we love all breeds\, the Greyhounds Only Reunion is limited to the greyhound breed only. Thanks for your understanding and cooperation!
URL:https://dupagecountyfair.org/event/2022-greyhounds-only-reunion/
LOCATION:DuPage County Fairgrounds\, 2015 Manchester Road\, Wheaton\, IL\, 60187\, United States
ATTACH;FMTTYPE=image/jpeg:https://dupagecountyfair.org/wp-content/uploads/2022/10/299313938_438259788332400_3614619831947526706_n.jpg
END:VEVENT
BEGIN:VEVENT
DTSTART;TZID=America/Chicago:20221029T150000
DTEND;TZID=America/Chicago:20221030T000000
DTSTAMP:20260422T030339
CREATED:20220706T152646Z
LAST-MODIFIED:20220706T152913Z
UID:10000303-1667055600-1667088000@dupagecountyfair.org
SUMMARY:Wheaton Illinois Haunted Halloween Flea Market 2022
DESCRIPTION:Saturday\, October 29\, 20223pm – 12 MidnightAdmission: $10 / Children 12 & under FREE \nhttps://zurkopromotions.com/wheaton-illinois-haunted-halloween-flea-market/ \n​
URL:https://dupagecountyfair.org/event/wheaton-illinois-haunted-halloween-flea-market-2022/
LOCATION:DuPage County Fairgrounds\, 2015 Manchester Road\, Wheaton\, IL\, 60187\, United States
END:VEVENT
BEGIN:VEVENT
DTSTART;TZID=America/Chicago:20221030T090000
DTEND;TZID=America/Chicago:20221030T150000
DTSTAMP:20260422T030339
CREATED:20221028T150127Z
LAST-MODIFIED:20230920T213222Z
UID:10000326-1667120400-1667142000@dupagecountyfair.org
SUMMARY:Great Midwest Train Show
DESCRIPTION:9AM – 3PM\nBuildings: 1\, 2\, 3\n \nFor over 40 years the nation’s largest monthly model train show. See over 500 tables of new and used model trains\, accessories\, parts\, and more for sale\, as well as free giveaways to attendees and a DCC train layout for kids to operate.\nShow Features: \n\nHundreds of Tables of Trains for Sale\nExhibitors from Across the Country\nHuge Operating Model Train Displays\nFree Workshops and Demonstrations\nFree Test Track – Test Run Your Trains at the Show\nFree Door Prize Giveaways\nPlus Much\, Much More!\n\nFor tickets and more information\, visit:\nhttps://www.trainshow.com/\n​
URL:https://dupagecountyfair.org/event/great-midwest-train-show/2022-10-30/
LOCATION:DuPage County Fairgrounds\, 2015 Manchester Road\, Wheaton\, IL\, 60187\, United States
ATTACH;FMTTYPE=image/png:https://dupagecountyfair.org/wp-content/uploads/2022/10/213078157_483647596015824_7207030422614365128_n.png
END:VEVENT
END:VCALENDAR