BEGIN:VCALENDAR
VERSION:2.0
PRODID:-//DuPage Event Center &amp; Fairgrounds. - ECPv6.15.20//NONSGML v1.0//EN
CALSCALE:GREGORIAN
METHOD:PUBLISH
X-WR-CALNAME:DuPage Event Center &amp; Fairgrounds.
X-ORIGINAL-URL:https://dupagecountyfair.org
X-WR-CALDESC:Events for DuPage Event Center &amp; Fairgrounds.
REFRESH-INTERVAL;VALUE=DURATION:PT1H
X-Robots-Tag:noindex
X-PUBLISHED-TTL:PT1H
BEGIN:VTIMEZONE
TZID:America/Chicago
BEGIN:DAYLIGHT
TZOFFSETFROM:-0600
TZOFFSETTO:-0500
TZNAME:CDT
DTSTART:20210314T080000
END:DAYLIGHT
BEGIN:STANDARD
TZOFFSETFROM:-0500
TZOFFSETTO:-0600
TZNAME:CST
DTSTART:20211107T070000
END:STANDARD
BEGIN:DAYLIGHT
TZOFFSETFROM:-0600
TZOFFSETTO:-0500
TZNAME:CDT
DTSTART:20220313T080000
END:DAYLIGHT
BEGIN:STANDARD
TZOFFSETFROM:-0500
TZOFFSETTO:-0600
TZNAME:CST
DTSTART:20221106T070000
END:STANDARD
BEGIN:DAYLIGHT
TZOFFSETFROM:-0600
TZOFFSETTO:-0500
TZNAME:CDT
DTSTART:20230312T080000
END:DAYLIGHT
BEGIN:STANDARD
TZOFFSETFROM:-0500
TZOFFSETTO:-0600
TZNAME:CST
DTSTART:20231105T070000
END:STANDARD
END:VTIMEZONE
BEGIN:VEVENT
DTSTART;VALUE=DATE:20221105
DTEND;VALUE=DATE:20221107
DTSTAMP:20260424T074651
CREATED:20220907T190516Z
LAST-MODIFIED:20220907T190849Z
UID:10000311-1667606400-1667779199@dupagecountyfair.org
SUMMARY:FIREFLY CANDLE MARKET - Firefly Market Holiday Edition
DESCRIPTION:​Saturday\, November 5\, 2022 from 10am – 4pm& Sunday\, November 6\, 2022 from 10am – 3pm \nBuilding 1 \nhttps://www.fireflycandlemarket.com/fireflymarket \nPack up your girlfriends\, bring your Christmas list and enjoy a holiday celebration with fabulous shopping from 100+ handcrafted vendors! Christmas music will be flowing through the heated indoor Firefly Market as shoppers look for one-of-a-kind gifts\, handmade jewelry\, holiday decor\, handcrafted pottery\, soy candles\, vintage and farmhouse finds\, delicious food\, warm drinks\, beautiful body care\, bath bombs\, pillows\, leather goods\, wooden artisan goods\, mobile boutiques and so much more!
URL:https://dupagecountyfair.org/event/firefly-candle-market-firefly-market-holiday-edition/
LOCATION:DuPage County Fairgrounds\, 2015 Manchester Road\, Wheaton\, IL\, 60187\, United States
ATTACH;FMTTYPE=image/jpeg:https://dupagecountyfair.org/wp-content/uploads/2022/09/image001.jpg
END:VEVENT
BEGIN:VEVENT
DTSTART;TZID=America/Chicago:20221105T090000
DTEND;TZID=America/Chicago:20221105T170000
DTSTAMP:20260424T074651
CREATED:20221026T163459Z
LAST-MODIFIED:20221026T164639Z
UID:10000316-1667638800-1667667600@dupagecountyfair.org
SUMMARY:39th Annual Butch O’Hare Chapter Open Model Contest
DESCRIPTION:Saturday\, November 5\, 2022Bldgs 2 & 39am – 5pm \nhttps://calendar.ipmsusa3.org/event/39th-annual-butch-ohare-chapter-open-model-contest
URL:https://dupagecountyfair.org/event/39th-annual-butch-ohare-chapter-open-model-contest/
LOCATION:DuPage County Fairgrounds\, 2015 Manchester Road\, Wheaton\, IL\, 60187\, United States
ATTACH;FMTTYPE=image/jpeg:https://dupagecountyfair.org/wp-content/uploads/2022/10/2022contestflyeralargeformat.jpg
END:VEVENT
BEGIN:VEVENT
DTSTART;VALUE=DATE:20221111
DTEND;VALUE=DATE:20221114
DTSTAMP:20260424T074651
CREATED:20220301T170848Z
LAST-MODIFIED:20220823T140911Z
UID:10000283-1668124800-1668383999@dupagecountyfair.org
SUMMARY:MSF 26th Annual Harvest Pow Wow
DESCRIPTION:November 11\, 12\, 13\, 2022Building 1\, Grounds \nhttps://www.midwestsoarring.org/docs/2022HarvPWFlyer-web.pdfhttps://www.midwestsoarring.org/eventinfo.html
URL:https://dupagecountyfair.org/event/msf-26th-annual-harvest-pow-wow/
LOCATION:DuPage County Fairgrounds\, 2015 Manchester Road\, Wheaton\, IL\, 60187\, United States
ATTACH;FMTTYPE=image/jpeg:https://dupagecountyfair.org/wp-content/uploads/2022/03/2022HarvPWFlyer-web-1.jpg
END:VEVENT
BEGIN:VEVENT
DTSTART;VALUE=DATE:20221118
DTEND;VALUE=DATE:20221120
DTSTAMP:20260424T074651
CREATED:20221026T164938Z
LAST-MODIFIED:20221111T202834Z
UID:10000317-1668729600-1668902399@dupagecountyfair.org
SUMMARY:Washington Street Holiday Market
DESCRIPTION:November 18-19\, 2022Building 1Friday\, November 18\, 5 p.m.-9 p.m.Saturday\, November 19\, 9 a.m.-4 p.m. \nhttp://www.washingtonstreetmarkets.com/
URL:https://dupagecountyfair.org/event/washington-street-holiday-market/
LOCATION:DuPage County Fairgrounds\, 2015 Manchester Road\, Wheaton\, IL\, 60187\, United States
ATTACH;FMTTYPE=image/jpeg:https://dupagecountyfair.org/wp-content/uploads/2022/10/WSM-Holiday-2022-Flyer_Page_2.jpg
END:VEVENT
BEGIN:VEVENT
DTSTART;TZID=America/Chicago:20221120T080000
DTEND;TZID=America/Chicago:20221120T150000
DTSTAMP:20260424T074651
CREATED:20221026T170417Z
LAST-MODIFIED:20221026T171102Z
UID:10000318-1668931200-1668956400@dupagecountyfair.org
SUMMARY:Wheaton Antique Flea Market
DESCRIPTION:Sunday\, November 20\, 2022Building 1 \nHours: 8am to 3pm / $5Early Buyers: 6am to 8am / $10*Tickets available at the event.Children 12 and under free with adult.Free Parking \nhttps://www.facebook.com/events/3028720194059631
URL:https://dupagecountyfair.org/event/wheaton-antique-flea-market/
LOCATION:DuPage County Fairgrounds\, 2015 Manchester Road\, Wheaton\, IL\, 60187\, United States
ATTACH;FMTTYPE=image/jpeg:https://dupagecountyfair.org/wp-content/uploads/2022/10/1640094291_2022-wheaton-illinois-antique-flea-market-1.jpg
END:VEVENT
END:VCALENDAR