BEGIN:VCALENDAR
VERSION:2.0
PRODID:-//DuPage Event Center &amp; Fairgrounds. - ECPv6.15.20//NONSGML v1.0//EN
CALSCALE:GREGORIAN
METHOD:PUBLISH
X-WR-CALNAME:DuPage Event Center &amp; Fairgrounds.
X-ORIGINAL-URL:https://dupagecountyfair.org
X-WR-CALDESC:Events for DuPage Event Center &amp; Fairgrounds.
REFRESH-INTERVAL;VALUE=DURATION:PT1H
X-Robots-Tag:noindex
X-PUBLISHED-TTL:PT1H
BEGIN:VTIMEZONE
TZID:America/Chicago
BEGIN:DAYLIGHT
TZOFFSETFROM:-0600
TZOFFSETTO:-0500
TZNAME:CDT
DTSTART:20220313T080000
END:DAYLIGHT
BEGIN:STANDARD
TZOFFSETFROM:-0500
TZOFFSETTO:-0600
TZNAME:CST
DTSTART:20221106T070000
END:STANDARD
BEGIN:DAYLIGHT
TZOFFSETFROM:-0600
TZOFFSETTO:-0500
TZNAME:CDT
DTSTART:20230312T080000
END:DAYLIGHT
BEGIN:STANDARD
TZOFFSETFROM:-0500
TZOFFSETTO:-0600
TZNAME:CST
DTSTART:20231105T070000
END:STANDARD
BEGIN:DAYLIGHT
TZOFFSETFROM:-0600
TZOFFSETTO:-0500
TZNAME:CDT
DTSTART:20240310T080000
END:DAYLIGHT
BEGIN:STANDARD
TZOFFSETFROM:-0500
TZOFFSETTO:-0600
TZNAME:CST
DTSTART:20241103T070000
END:STANDARD
END:VTIMEZONE
BEGIN:VEVENT
DTSTART;TZID=America/Chicago:20230204T090000
DTEND;TZID=America/Chicago:20230204T150000
DTSTAMP:20260423T092312
CREATED:20230117T191712Z
LAST-MODIFIED:20230117T192128Z
UID:10000342-1675501200-1675522800@dupagecountyfair.org
SUMMARY:Rustic Vintage Fair Galentine's Market
DESCRIPTION:Saturday\, February 4\, 20239am – 3pmAdmission: $4 / Kids FREEBuilding 1 \nhttps://www.facebook.com/events/3308565962718034/ \nSupport local vendors and crafters at the rustic vintage fair! Shopping begins at 9am. $4 entry fee\, ample parking. Grab a friend and Start Your spring shopping early! Find something for everyone! if you are interested in becoming a vendor\, please visit our website www.rusticvintagefair.com to register. As we get closer to the event date\, we will be sharing photos of vendors that will be in attendance! Please like and share! 
URL:https://dupagecountyfair.org/event/rustic-vintage-fair-galentines-market/
LOCATION:DuPage County Fairgrounds\, 2015 Manchester Road\, Wheaton\, IL\, 60187\, United States
ATTACH;FMTTYPE=image/jpeg:https://dupagecountyfair.org/wp-content/uploads/2023/01/317070788_442168281437907_8320937322844379815_n.jpg
END:VEVENT
BEGIN:VEVENT
DTSTART;TZID=America/Chicago:20230205T090000
DTEND;TZID=America/Chicago:20230205T150000
DTSTAMP:20260423T092312
CREATED:20221028T150127Z
LAST-MODIFIED:20230920T213222Z
UID:10000329-1675587600-1675609200@dupagecountyfair.org
SUMMARY:Great Midwest Train Show
DESCRIPTION:9AM – 3PM\nBuildings: 1\, 2\, 3\n \nFor over 40 years the nation’s largest monthly model train show. See over 500 tables of new and used model trains\, accessories\, parts\, and more for sale\, as well as free giveaways to attendees and a DCC train layout for kids to operate.\nShow Features: \n\nHundreds of Tables of Trains for Sale\nExhibitors from Across the Country\nHuge Operating Model Train Displays\nFree Workshops and Demonstrations\nFree Test Track – Test Run Your Trains at the Show\nFree Door Prize Giveaways\nPlus Much\, Much More!\n\nFor tickets and more information\, visit:\nhttps://www.trainshow.com/\n​
URL:https://dupagecountyfair.org/event/great-midwest-train-show/2023-02-05/
LOCATION:DuPage County Fairgrounds\, 2015 Manchester Road\, Wheaton\, IL\, 60187\, United States
ATTACH;FMTTYPE=image/png:https://dupagecountyfair.org/wp-content/uploads/2022/10/213078157_483647596015824_7207030422614365128_n.png
END:VEVENT
BEGIN:VEVENT
DTSTART;VALUE=DATE:20230210
DTEND;VALUE=DATE:20230213
DTSTAMP:20260423T092312
CREATED:20230117T193706Z
LAST-MODIFIED:20230117T194100Z
UID:10000343-1675987200-1676246399@dupagecountyfair.org
SUMMARY:2023 ITAA Indoor State Championships
DESCRIPTION:February 10-12\, 2023Building 1 \nhttps://illinoistargetarchery.org/2023-itaa-indoor-state-championships/
URL:https://dupagecountyfair.org/event/2023-itaa-indoor-state-championships/
LOCATION:DuPage County Fairgrounds\, 2015 Manchester Road\, Wheaton\, IL\, 60187\, United States
ATTACH;FMTTYPE=image/png:https://dupagecountyfair.org/wp-content/uploads/2022/01/ITAA_2021_final_color_1.25aspect.png
END:VEVENT
BEGIN:VEVENT
DTSTART;VALUE=DATE:20230218
DTEND;VALUE=DATE:20230220
DTSTAMP:20260423T092312
CREATED:20230117T194302Z
LAST-MODIFIED:20230117T194707Z
UID:10000344-1676678400-1676851199@dupagecountyfair.org
SUMMARY:ILLINOIS VINTAGE FEST 11
DESCRIPTION:February 18-19\, 202311am-6pmBuilding 1 \nhttps://www.facebook.com/events/2141205062752868/ \nFebruary 18th & 19th Illinois Vintage Fest will be returning for a two day event at the Dupage County Fair Grounds & Event Center. This is an indoor event but food trucks will be outside the building! \nIllinois Vintage Fest is home to over 100+ vendors of mostly vintage clothing\, but include artisans\, antiques\, home goods sellers\, collectibles and more. Vendor spots will be available soon on the @vendorzsofficial app. \nThis a little different event\, this is a two day indoor event. Vendors will be restocking for both days. This is still a free event. Have any questions dm us!
URL:https://dupagecountyfair.org/event/illinois-vintage-fest-11/
LOCATION:DuPage County Fairgrounds\, 2015 Manchester Road\, Wheaton\, IL\, 60187\, United States
ATTACH;FMTTYPE=image/jpeg:https://dupagecountyfair.org/wp-content/uploads/2023/01/324902062_510316677622749_154010259582131042_n.jpg
END:VEVENT
BEGIN:VEVENT
DTSTART;VALUE=DATE:20230225
DTEND;VALUE=DATE:20230227
DTSTAMP:20260423T092312
CREATED:20230117T195024Z
LAST-MODIFIED:20230117T195609Z
UID:10000345-1677283200-1677455999@dupagecountyfair.org
SUMMARY:LINCOLN STATE CAT CLUB
DESCRIPTION:February 25-26\, 2023Building 19am – 4pm both days \nhttps://cfa.org/wp-content/uploads/2022/11/LincolnState-Feb2023.pdf
URL:https://dupagecountyfair.org/event/lincoln-state-cat-club/
LOCATION:DuPage County Fairgrounds\, 2015 Manchester Road\, Wheaton\, IL\, 60187\, United States
ATTACH;FMTTYPE=image/png:https://dupagecountyfair.org/wp-content/uploads/2023/01/Screenshot-2023-01-17-at-1.53.24-PM.png
END:VEVENT
BEGIN:VEVENT
DTSTART;TZID=America/Chicago:20230226T090000
DTEND;TZID=America/Chicago:20230226T140000
DTSTAMP:20260423T092312
CREATED:20220926T154525Z
LAST-MODIFIED:20220926T155254Z
UID:10000312-1677402000-1677420000@dupagecountyfair.org
SUMMARY:81ST ILLINOIS PLASTIC KIT & TOY SHOW
DESCRIPTION:Sunday\, February 26\, 2023Buildings 2 & 39am – 2pmAdmission: $7 \nhttps://www.facebook.com/Illinois-Plastic-Kit-and-Toy-Show-1052168418157988/
URL:https://dupagecountyfair.org/event/81st-illinois-plastic-kit-toy-show/
LOCATION:DuPage County Fairgrounds\, 2015 Manchester Road\, Wheaton\, IL\, 60187\, United States
ATTACH;FMTTYPE=image/jpeg:https://dupagecountyfair.org/wp-content/uploads/2022/09/309124203_8131413293566763_6621715835325516092_n.jpg
END:VEVENT
BEGIN:VEVENT
DTSTART;VALUE=DATE:20230228
DTEND;VALUE=DATE:20230302
DTSTAMP:20260423T092312
CREATED:20241122T213238Z
LAST-MODIFIED:20241122T213351Z
UID:10000567-1677542400-1677715199@dupagecountyfair.org
SUMMARY:LINCOLN STATE CAT CLUB - 63RD Annual CFA Allbreed Cat Show
DESCRIPTION:February 28-March 1\, 2025Building(s): 110am – 4pm
URL:https://dupagecountyfair.org/event/lincoln-state-cat-club-63rd-annual-cfa-allbreed-cat-show/
LOCATION:DuPage County Fairgrounds\, 2015 Manchester Road\, Wheaton\, IL\, 60187\, United States
ATTACH;FMTTYPE=image/png:https://dupagecountyfair.org/wp-content/uploads/2024/11/logo-login.png
END:VEVENT
END:VCALENDAR