BEGIN:VCALENDAR
VERSION:2.0
PRODID:-//DuPage Event Center &amp; Fairgrounds. - ECPv6.15.20//NONSGML v1.0//EN
CALSCALE:GREGORIAN
METHOD:PUBLISH
X-ORIGINAL-URL:https://dupagecountyfair.org
X-WR-CALDESC:Events for DuPage Event Center &amp; Fairgrounds.
REFRESH-INTERVAL;VALUE=DURATION:PT1H
X-Robots-Tag:noindex
X-PUBLISHED-TTL:PT1H
BEGIN:VTIMEZONE
TZID:America/Chicago
BEGIN:DAYLIGHT
TZOFFSETFROM:-0600
TZOFFSETTO:-0500
TZNAME:CDT
DTSTART:20220313T080000
END:DAYLIGHT
BEGIN:STANDARD
TZOFFSETFROM:-0500
TZOFFSETTO:-0600
TZNAME:CST
DTSTART:20221106T070000
END:STANDARD
BEGIN:DAYLIGHT
TZOFFSETFROM:-0600
TZOFFSETTO:-0500
TZNAME:CDT
DTSTART:20230312T080000
END:DAYLIGHT
BEGIN:STANDARD
TZOFFSETFROM:-0500
TZOFFSETTO:-0600
TZNAME:CST
DTSTART:20231105T070000
END:STANDARD
BEGIN:DAYLIGHT
TZOFFSETFROM:-0600
TZOFFSETTO:-0500
TZNAME:CDT
DTSTART:20240310T080000
END:DAYLIGHT
BEGIN:STANDARD
TZOFFSETFROM:-0500
TZOFFSETTO:-0600
TZNAME:CST
DTSTART:20241103T070000
END:STANDARD
END:VTIMEZONE
BEGIN:VEVENT
DTSTART;TZID=America/Chicago:20230401T083000
DTEND;TZID=America/Chicago:20230401T120000
DTSTAMP:20260425T093907
CREATED:20230321T203231Z
LAST-MODIFIED:20230321T204100Z
UID:10000362-1680337800-1680350400@dupagecountyfair.org
SUMMARY:SCARCE – WHEATON RECYCLING EXTRAVAGANZA
DESCRIPTION:North GroundsSaturday\, April 1\, 20238:30am-12:00pm \nhttps://www.scarce.org/event/wheaton-recycling-extravaganza-paper-shredding/
URL:https://dupagecountyfair.org/event/scarce-wheaton-recycling-extravaganza/
LOCATION:DuPage County Fairgrounds\, 2015 Manchester Road\, Wheaton\, IL\, 60187\, United States
ATTACH;FMTTYPE=image/jpeg:https://dupagecountyfair.org/wp-content/uploads/2023/03/Wheaton-Recycling-Extravaganza-2023-1.jpg
END:VEVENT
BEGIN:VEVENT
DTSTART;TZID=America/Chicago:20230401T090000
DTEND;TZID=America/Chicago:20230401T150000
DTSTAMP:20260425T093907
CREATED:20230302T224853Z
LAST-MODIFIED:20230302T225218Z
UID:10000359-1680339600-1680361200@dupagecountyfair.org
SUMMARY:DuPage Collectors Expo Show
DESCRIPTION:Saturday\, April 1\, 2023Building(s): 2-3 \nhttps://allinsulators.com/hobby/shows/ \nDuPage Collectors Expo show will be held Saturday\, April 1st\, at the DuPage County Fairgrounds\, 2015 Manchester Road\, Wheaton\, Illinois\, Hours are 9:00 AM to 3:00 PM. Items for sale & trade include: Insulators\, Lightning Rod items & Weathervanes\, Telephone & Telegraph items\, Bottles\, Jars\, etc. Info: BOB STAHR: bob@hemingray.com (630) 793-5345 and RICK SOLLER: rdmershon@aol.com (847) 782-8602.
URL:https://dupagecountyfair.org/event/dupage-collectors-expo-show/
LOCATION:DuPage County Fairgrounds\, 2015 Manchester Road\, Wheaton\, IL\, 60187\, United States
ATTACH;FMTTYPE=image/png:https://dupagecountyfair.org/wp-content/uploads/2023/03/small-162724.png
END:VEVENT
BEGIN:VEVENT
DTSTART;TZID=America/Chicago:20230402T090000
DTEND;TZID=America/Chicago:20230402T150000
DTSTAMP:20260425T093907
CREATED:20221028T150127Z
LAST-MODIFIED:20230920T213222Z
UID:10000331-1680426000-1680447600@dupagecountyfair.org
SUMMARY:Great Midwest Train Show
DESCRIPTION:9AM – 3PM\nBuildings: 1\, 2\, 3\n \nFor over 40 years the nation’s largest monthly model train show. See over 500 tables of new and used model trains\, accessories\, parts\, and more for sale\, as well as free giveaways to attendees and a DCC train layout for kids to operate.\nShow Features: \n\nHundreds of Tables of Trains for Sale\nExhibitors from Across the Country\nHuge Operating Model Train Displays\nFree Workshops and Demonstrations\nFree Test Track – Test Run Your Trains at the Show\nFree Door Prize Giveaways\nPlus Much\, Much More!\n\nFor tickets and more information\, visit:\nhttps://www.trainshow.com/\n​
URL:https://dupagecountyfair.org/event/great-midwest-train-show/2023-04-02/
LOCATION:DuPage County Fairgrounds\, 2015 Manchester Road\, Wheaton\, IL\, 60187\, United States
ATTACH;FMTTYPE=image/png:https://dupagecountyfair.org/wp-content/uploads/2022/10/213078157_483647596015824_7207030422614365128_n.png
END:VEVENT
BEGIN:VEVENT
DTSTART;TZID=America/Chicago:20230422T090000
DTEND;TZID=America/Chicago:20230422T160000
DTSTAMP:20260425T093907
CREATED:20230214T223611Z
LAST-MODIFIED:20230214T224123Z
UID:10000353-1682154000-1682179200@dupagecountyfair.org
SUMMARY:CHICAGO CIVIL WAR SHOW & SALE
DESCRIPTION:Saturday\, April 22\, 2023Building: 19:00am – 4:00pm \nhttps://chicagocivilwarshow.com/ \nhe DuPage County Fairgrounds semi-annual MASSIVE Chicagoland CIVIL WAR & Collector Arms (CADA) Show and Sale. The DuPage\, IL Civil War Show\, will bring delight to the Civil War Enthusiast. \nCivil War and Collector Arms dealers from throughout the United States will be offering 1000’s of Civil War Treasures and Memorabilia. The history of America’s Great Heritage can be viewed on the 100’s of tables of unique artifacts offered for sale. \nIn addition to CIVIL WAR ANTIQUITIES for sale\, there will also be memorabilia from the REVOLUTIONARY WAR and the SPANISH AMERICAN WAR. Dealers will be bringing their BEST wares for this greatly anticipated event. A special display of CIVIL WAR cannons and artillery will also be there for viewing. \n1\,000’s of Civil War Treasures plus\, Revolutionary War\, and Spanish American War Memorabilia.
URL:https://dupagecountyfair.org/event/chicago-civil-war-show-sale-2/
LOCATION:DuPage County Fairgrounds\, 2015 Manchester Road\, Wheaton\, IL\, 60187\, United States
ATTACH;FMTTYPE=image/png:https://dupagecountyfair.org/wp-content/uploads/2021/08/ccwss-logo-1.png
END:VEVENT
BEGIN:VEVENT
DTSTART;TZID=America/Chicago:20230430T090000
DTEND;TZID=America/Chicago:20230430T140000
DTSTAMP:20260425T093907
CREATED:20230302T225309Z
LAST-MODIFIED:20230306T193936Z
UID:10000360-1682845200-1682863200@dupagecountyfair.org
SUMMARY:NORTHEAST ILLINOIS VOLKSWAGEN ASSOCIATION
DESCRIPTION:Sunday\, April 30\, 2023Building(s): 2-3 \nhttp://www.nivaclub.org/comingevents.html \nClean out your garages\, basements or sheds and find buyers for the VW parts & stuff that you’ve accumulated over the years. Looking to get an early start on your Spring project? Find the parts you need. Have some cool toys and/or memorabilia that you’d like to sell? This is the place to do it. Are you looking to expand your toy and memorabilia collection? There will be sale items for you as well.
URL:https://dupagecountyfair.org/event/northeast-illinois-volkswagen-association/
LOCATION:DuPage County Fairgrounds\, 2015 Manchester Road\, Wheaton\, IL\, 60187\, United States
ATTACH;FMTTYPE=image/jpeg:https://dupagecountyfair.org/wp-content/uploads/2023/03/296_2023_Swap_Card.jpg
END:VEVENT
END:VCALENDAR