BEGIN:VCALENDAR
VERSION:2.0
PRODID:-//DuPage Event Center &amp; Fairgrounds. - ECPv6.15.20//NONSGML v1.0//EN
CALSCALE:GREGORIAN
METHOD:PUBLISH
X-WR-CALNAME:DuPage Event Center &amp; Fairgrounds.
X-ORIGINAL-URL:https://dupagecountyfair.org
X-WR-CALDESC:Events for DuPage Event Center &amp; Fairgrounds.
REFRESH-INTERVAL;VALUE=DURATION:PT1H
X-Robots-Tag:noindex
X-PUBLISHED-TTL:PT1H
BEGIN:VTIMEZONE
TZID:America/Chicago
BEGIN:DAYLIGHT
TZOFFSETFROM:-0600
TZOFFSETTO:-0500
TZNAME:CDT
DTSTART:20220313T080000
END:DAYLIGHT
BEGIN:STANDARD
TZOFFSETFROM:-0500
TZOFFSETTO:-0600
TZNAME:CST
DTSTART:20221106T070000
END:STANDARD
BEGIN:DAYLIGHT
TZOFFSETFROM:-0600
TZOFFSETTO:-0500
TZNAME:CDT
DTSTART:20230312T080000
END:DAYLIGHT
BEGIN:STANDARD
TZOFFSETFROM:-0500
TZOFFSETTO:-0600
TZNAME:CST
DTSTART:20231105T070000
END:STANDARD
BEGIN:DAYLIGHT
TZOFFSETFROM:-0600
TZOFFSETTO:-0500
TZNAME:CDT
DTSTART:20240310T080000
END:DAYLIGHT
BEGIN:STANDARD
TZOFFSETFROM:-0500
TZOFFSETTO:-0600
TZNAME:CST
DTSTART:20241103T070000
END:STANDARD
END:VTIMEZONE
BEGIN:VEVENT
DTSTART;TZID=America/Chicago:20230507T090000
DTEND;TZID=America/Chicago:20230507T150000
DTSTAMP:20260425T060813
CREATED:20221028T150127Z
LAST-MODIFIED:20230920T213222Z
UID:10000332-1683450000-1683471600@dupagecountyfair.org
SUMMARY:Great Midwest Train Show
DESCRIPTION:9AM – 3PM\nBuildings: 1\, 2\, 3\n \nFor over 40 years the nation’s largest monthly model train show. See over 500 tables of new and used model trains\, accessories\, parts\, and more for sale\, as well as free giveaways to attendees and a DCC train layout for kids to operate.\nShow Features: \n\nHundreds of Tables of Trains for Sale\nExhibitors from Across the Country\nHuge Operating Model Train Displays\nFree Workshops and Demonstrations\nFree Test Track – Test Run Your Trains at the Show\nFree Door Prize Giveaways\nPlus Much\, Much More!\n\nFor tickets and more information\, visit:\nhttps://www.trainshow.com/\n​
URL:https://dupagecountyfair.org/event/great-midwest-train-show/2023-05-07/
LOCATION:DuPage County Fairgrounds\, 2015 Manchester Road\, Wheaton\, IL\, 60187\, United States
ATTACH;FMTTYPE=image/png:https://dupagecountyfair.org/wp-content/uploads/2022/10/213078157_483647596015824_7207030422614365128_n.png
END:VEVENT
BEGIN:VEVENT
DTSTART;TZID=America/Chicago:20230513T100000
DTEND;TZID=America/Chicago:20230513T160000
DTSTAMP:20260425T060813
CREATED:20230403T185536Z
LAST-MODIFIED:20230403T190744Z
UID:10000363-1683972000-1683993600@dupagecountyfair.org
SUMMARY:FIREFLY MARKET
DESCRIPTION:Saturday\, May 13\, 202310am-4pmBuilding 1 \nhttps://www.fireflycandlemarket.com/fireflymarket \nPack up your girlfriends\, bring the van and enjoy shopping from 100+ handcrafted vendors! Music will be flowing through the heated indoor Firefly Market as shoppers look for one-of-a-kind gifts\, handmade jewelry\, spring and summer decor\, handcrafted pottery\, soy candles\, vintage and farmhouse finds\, delicious food\, warm and cold drinks\, beautiful body care\, bath bombs\, pillows\, leather goods\, wooden artisan goods\, mobile boutiques and so much more!
URL:https://dupagecountyfair.org/event/firefly-market-2/
LOCATION:DuPage County Fairgrounds\, 2015 Manchester Road\, Wheaton\, IL\, 60187\, United States
ATTACH;FMTTYPE=image/webp:https://dupagecountyfair.org/wp-content/uploads/2023/04/28da60_8b9818e5691343b396cc483b5c92157f_mv2.webp
END:VEVENT
BEGIN:VEVENT
DTSTART;VALUE=DATE:20230524
DTEND;VALUE=DATE:20230526
DTSTAMP:20260425T060813
CREATED:20230511T202008Z
LAST-MODIFIED:20230511T202311Z
UID:10000365-1684886400-1685059199@dupagecountyfair.org
SUMMARY:APWA CHICAGO METRO CHAPTER EXPO & ROADEO
DESCRIPTION:North Grounds\, Bldg 5\, PavilionMay 24-25\, 2023 \nhttp://chicago.apwa.net/PageDetails/31282 \nThe APWA Chicago Metro typically hosts the annual Expo during National Public Works Week. This two day event is a great way to see the latest equipment\, tools\, speak with vendors\, attend education sessions and watch (or participate in) the end loader\, snow plow and backhoe competition. The winner of the backhoe competition gets the opportunity to compete at PWX and represent the Chapter.
URL:https://dupagecountyfair.org/event/apwa-chicago-metro-chapter-expo-roadeo/
LOCATION:DuPage County Fairgrounds\, 2015 Manchester Road\, Wheaton\, IL\, 60187\, United States
ATTACH;FMTTYPE=image/png:https://dupagecountyfair.org/wp-content/uploads/2023/05/page-banner.png
END:VEVENT
END:VCALENDAR