BEGIN:VCALENDAR
VERSION:2.0
PRODID:-//DuPage Event Center &amp; Fairgrounds. - ECPv6.15.20//NONSGML v1.0//EN
CALSCALE:GREGORIAN
METHOD:PUBLISH
X-ORIGINAL-URL:https://dupagecountyfair.org
X-WR-CALDESC:Events for DuPage Event Center &amp; Fairgrounds.
REFRESH-INTERVAL;VALUE=DURATION:PT1H
X-Robots-Tag:noindex
X-PUBLISHED-TTL:PT1H
BEGIN:VTIMEZONE
TZID:America/Chicago
BEGIN:DAYLIGHT
TZOFFSETFROM:-0600
TZOFFSETTO:-0500
TZNAME:CDT
DTSTART:20220313T080000
END:DAYLIGHT
BEGIN:STANDARD
TZOFFSETFROM:-0500
TZOFFSETTO:-0600
TZNAME:CST
DTSTART:20221106T070000
END:STANDARD
BEGIN:DAYLIGHT
TZOFFSETFROM:-0600
TZOFFSETTO:-0500
TZNAME:CDT
DTSTART:20230312T080000
END:DAYLIGHT
BEGIN:STANDARD
TZOFFSETFROM:-0500
TZOFFSETTO:-0600
TZNAME:CST
DTSTART:20231105T070000
END:STANDARD
BEGIN:DAYLIGHT
TZOFFSETFROM:-0600
TZOFFSETTO:-0500
TZNAME:CDT
DTSTART:20240310T080000
END:DAYLIGHT
BEGIN:STANDARD
TZOFFSETFROM:-0500
TZOFFSETTO:-0600
TZNAME:CST
DTSTART:20241103T070000
END:STANDARD
END:VTIMEZONE
BEGIN:VEVENT
DTSTART;VALUE=DATE:20230805
DTEND;VALUE=DATE:20230807
DTSTAMP:20260425T135131
CREATED:20230616T151316Z
LAST-MODIFIED:20230616T151653Z
UID:10000369-1691193600-1691366399@dupagecountyfair.org
SUMMARY:2023 ITAA Outdoor JOAD and All-Ages State Championships
DESCRIPTION:Saturday & Sunday August 5-6\, 2023Butterfly Garden – Outside \n2023 ITAA Outdoor JOAD and All-Ages State Championships – Update: Results!
URL:https://dupagecountyfair.org/event/2023-itaa-outdoor-joad-and-all-ages-state-championships/
LOCATION:DuPage County Fairgrounds\, 2015 Manchester Road\, Wheaton\, IL\, 60187\, United States
ATTACH;FMTTYPE=image/png:https://dupagecountyfair.org/wp-content/uploads/2022/01/ITAA_2021_final_color_1.25aspect.png
END:VEVENT
BEGIN:VEVENT
DTSTART;TZID=America/Chicago:20230806T090000
DTEND;TZID=America/Chicago:20230806T150000
DTSTAMP:20260425T135131
CREATED:20221028T150127Z
LAST-MODIFIED:20230920T213222Z
UID:10000334-1691312400-1691334000@dupagecountyfair.org
SUMMARY:Great Midwest Train Show
DESCRIPTION:9AM – 3PM\nBuildings: 1\, 2\, 3\n \nFor over 40 years the nation’s largest monthly model train show. See over 500 tables of new and used model trains\, accessories\, parts\, and more for sale\, as well as free giveaways to attendees and a DCC train layout for kids to operate.\nShow Features: \n\nHundreds of Tables of Trains for Sale\nExhibitors from Across the Country\nHuge Operating Model Train Displays\nFree Workshops and Demonstrations\nFree Test Track – Test Run Your Trains at the Show\nFree Door Prize Giveaways\nPlus Much\, Much More!\n\nFor tickets and more information\, visit:\nhttps://www.trainshow.com/\n​
URL:https://dupagecountyfair.org/event/great-midwest-train-show/2023-08-06/
LOCATION:DuPage County Fairgrounds\, 2015 Manchester Road\, Wheaton\, IL\, 60187\, United States
ATTACH;FMTTYPE=image/png:https://dupagecountyfair.org/wp-content/uploads/2022/10/213078157_483647596015824_7207030422614365128_n.png
END:VEVENT
BEGIN:VEVENT
DTSTART;TZID=America/Chicago:20230819T150000
DTEND;TZID=America/Chicago:20230820T010000
DTSTAMP:20260425T135131
CREATED:20230214T224805Z
LAST-MODIFIED:20230214T225100Z
UID:10000355-1692457200-1692493200@dupagecountyfair.org
SUMMARY:World Famous Wheaton Illinois All Night Flea Market
DESCRIPTION:Saturday\, August 19\, 20233:00pm – 1:00amAll Grounds \nhttps://zurkopromotions.com/wheaton-illinois-all-night-flea-market/ \n3pm to 1am / $10. Children 12 years and under free with adult. Free parking. Tickets available at the gate. \nThe Wheaton All Night Flea market will be open (rain or shine). Saturday August 19\, 2023 3pm to approximately 1am. We have indoor buildings as well. \nIndoor and outdoor vendors! \nAttention! Please use customer parking entrance: 421 N. County Farm Rd.\, Wheaton\, IL
URL:https://dupagecountyfair.org/event/world-famous-wheaton-illinois-all-night-flea-market/
LOCATION:DuPage County Fairgrounds\, 2015 Manchester Road\, Wheaton\, IL\, 60187\, United States
ATTACH;FMTTYPE=image/jpeg:https://dupagecountyfair.org/wp-content/uploads/2022/04/ALL-NIGHT-FLEA-MARKET.jpeg
END:VEVENT
BEGIN:VEVENT
DTSTART;VALUE=DATE:20230826
DTEND;VALUE=DATE:20230828
DTSTAMP:20260425T135131
CREATED:20230808T221445Z
LAST-MODIFIED:20230808T221754Z
UID:10000374-1693008000-1693180799@dupagecountyfair.org
SUMMARY:Illinois Vintage Fest 15
DESCRIPTION:AUG 26 AT 11 AM – AUG 27 AT 6 PMBuilding : 1https://www.facebook.com/events/621280040119510/?ref=newsfeed \nGuess who’s back?? Illinois Vintage Fest will be returning for a two day event at the DuPage County Fairgrounds on August 26th and 27th. Beyond excited to announce that @whatnot / @whatnothype will be sponsoring another IVF! We are so pumped to be back at our favorite venue for IVF 15 \nIllinois Vintage Fest is home to over 100+ vendors of mostly vintage clothing\, but include artisans\, collectibles\, home goods\, and much more. Vendor applications are live on the @vendorzsofficial app right now! \nVendors will be restocking for both days. There will be food trucks on site for both days as well!
URL:https://dupagecountyfair.org/event/illinois-vintage-fest-15/
LOCATION:DuPage County Fairgrounds\, 2015 Manchester Road\, Wheaton\, IL\, 60187\, United States
ATTACH;FMTTYPE=image/jpeg:https://dupagecountyfair.org/wp-content/uploads/2023/08/362212964_310155234683146_7612834499754589831_n.jpg
END:VEVENT
END:VCALENDAR