BEGIN:VCALENDAR
VERSION:2.0
PRODID:-//DuPage Event Center &amp; Fairgrounds. - ECPv6.15.20//NONSGML v1.0//EN
CALSCALE:GREGORIAN
METHOD:PUBLISH
X-ORIGINAL-URL:https://dupagecountyfair.org
X-WR-CALDESC:Events for DuPage Event Center &amp; Fairgrounds.
REFRESH-INTERVAL;VALUE=DURATION:PT1H
X-Robots-Tag:noindex
X-PUBLISHED-TTL:PT1H
BEGIN:VTIMEZONE
TZID:America/Chicago
BEGIN:DAYLIGHT
TZOFFSETFROM:-0600
TZOFFSETTO:-0500
TZNAME:CDT
DTSTART:20230312T080000
END:DAYLIGHT
BEGIN:STANDARD
TZOFFSETFROM:-0500
TZOFFSETTO:-0600
TZNAME:CST
DTSTART:20231105T070000
END:STANDARD
BEGIN:DAYLIGHT
TZOFFSETFROM:-0600
TZOFFSETTO:-0500
TZNAME:CDT
DTSTART:20240310T080000
END:DAYLIGHT
BEGIN:STANDARD
TZOFFSETFROM:-0500
TZOFFSETTO:-0600
TZNAME:CST
DTSTART:20241103T070000
END:STANDARD
BEGIN:DAYLIGHT
TZOFFSETFROM:-0600
TZOFFSETTO:-0500
TZNAME:CDT
DTSTART:20250309T080000
END:DAYLIGHT
BEGIN:STANDARD
TZOFFSETFROM:-0500
TZOFFSETTO:-0600
TZNAME:CST
DTSTART:20251102T070000
END:STANDARD
END:VTIMEZONE
BEGIN:VEVENT
DTSTART;TZID=America/Chicago:20240204T090000
DTEND;TZID=America/Chicago:20240204T150000
DTSTAMP:20260424T194532
CREATED:20221028T150127Z
LAST-MODIFIED:20230920T213222Z
UID:10000389-1707037200-1707058800@dupagecountyfair.org
SUMMARY:Great Midwest Train Show
DESCRIPTION:9AM – 3PM\nBuildings: 1\, 2\, 3\n \nFor over 40 years the nation’s largest monthly model train show. See over 500 tables of new and used model trains\, accessories\, parts\, and more for sale\, as well as free giveaways to attendees and a DCC train layout for kids to operate.\nShow Features: \n\nHundreds of Tables of Trains for Sale\nExhibitors from Across the Country\nHuge Operating Model Train Displays\nFree Workshops and Demonstrations\nFree Test Track – Test Run Your Trains at the Show\nFree Door Prize Giveaways\nPlus Much\, Much More!\n\nFor tickets and more information\, visit:\nhttps://www.trainshow.com/\n​
URL:https://dupagecountyfair.org/event/great-midwest-train-show/2024-02-04/
LOCATION:DuPage County Fairgrounds\, 2015 Manchester Road\, Wheaton\, IL\, 60187\, United States
ATTACH;FMTTYPE=image/png:https://dupagecountyfair.org/wp-content/uploads/2022/10/213078157_483647596015824_7207030422614365128_n.png
END:VEVENT
BEGIN:VEVENT
DTSTART;VALUE=DATE:20240205
DTEND;VALUE=DATE:20240206
DTSTAMP:20260424T194532
CREATED:20240118T213943Z
LAST-MODIFIED:20250116T224724Z
UID:10000430-1707091200-1707177599@dupagecountyfair.org
SUMMARY:GLENBARD ALL BREED OBEDIENCE CLUB
DESCRIPTION:Building(s): 2\,3 \nhttps://www.gaboc.org/
URL:https://dupagecountyfair.org/event/glenbard-all-breed-obedience-club/2024-02-05/
LOCATION:DuPage County Fairgrounds\, 2015 Manchester Road\, Wheaton\, IL\, 60187\, United States
ATTACH;FMTTYPE=image/gif:https://dupagecountyfair.org/wp-content/uploads/2021/10/cef4e4f11a97d5b872cfd6778a8afd9d.gif
END:VEVENT
BEGIN:VEVENT
DTSTART;VALUE=DATE:20240206
DTEND;VALUE=DATE:20240207
DTSTAMP:20260424T194532
CREATED:20240118T213943Z
LAST-MODIFIED:20250116T224724Z
UID:10000431-1707177600-1707263999@dupagecountyfair.org
SUMMARY:GLENBARD ALL BREED OBEDIENCE CLUB
DESCRIPTION:Building(s): 2\,3 \nhttps://www.gaboc.org/
URL:https://dupagecountyfair.org/event/glenbard-all-breed-obedience-club/2024-02-06/
LOCATION:DuPage County Fairgrounds\, 2015 Manchester Road\, Wheaton\, IL\, 60187\, United States
ATTACH;FMTTYPE=image/gif:https://dupagecountyfair.org/wp-content/uploads/2021/10/cef4e4f11a97d5b872cfd6778a8afd9d.gif
END:VEVENT
BEGIN:VEVENT
DTSTART;VALUE=DATE:20240209
DTEND;VALUE=DATE:20240212
DTSTAMP:20260424T194532
CREATED:20230920T212614Z
LAST-MODIFIED:20230920T212619Z
UID:10000387-1707436800-1707695999@dupagecountyfair.org
SUMMARY:ITAA INDOOR STATE CHAMPIONSHIPS
DESCRIPTION:February 9-11Building(s): 1
URL:https://dupagecountyfair.org/event/itaa-indoor-state-championships/
LOCATION:DuPage County Fairgrounds\, 2015 Manchester Road\, Wheaton\, IL\, 60187\, United States
ATTACH;FMTTYPE=image/png:https://dupagecountyfair.org/wp-content/uploads/2022/01/ITAA_2021_final_color_1.25aspect.png
END:VEVENT
BEGIN:VEVENT
DTSTART;VALUE=DATE:20240212
DTEND;VALUE=DATE:20240213
DTSTAMP:20260424T194532
CREATED:20240118T213943Z
LAST-MODIFIED:20250116T224724Z
UID:10000432-1707696000-1707782399@dupagecountyfair.org
SUMMARY:GLENBARD ALL BREED OBEDIENCE CLUB
DESCRIPTION:Building(s): 2\,3 \nhttps://www.gaboc.org/
URL:https://dupagecountyfair.org/event/glenbard-all-breed-obedience-club/2024-02-12/
LOCATION:DuPage County Fairgrounds\, 2015 Manchester Road\, Wheaton\, IL\, 60187\, United States
ATTACH;FMTTYPE=image/gif:https://dupagecountyfair.org/wp-content/uploads/2021/10/cef4e4f11a97d5b872cfd6778a8afd9d.gif
END:VEVENT
BEGIN:VEVENT
DTSTART;VALUE=DATE:20240213
DTEND;VALUE=DATE:20240214
DTSTAMP:20260424T194532
CREATED:20240118T213943Z
LAST-MODIFIED:20250116T224724Z
UID:10000433-1707782400-1707868799@dupagecountyfair.org
SUMMARY:GLENBARD ALL BREED OBEDIENCE CLUB
DESCRIPTION:Building(s): 2\,3 \nhttps://www.gaboc.org/
URL:https://dupagecountyfair.org/event/glenbard-all-breed-obedience-club/2024-02-13/
LOCATION:DuPage County Fairgrounds\, 2015 Manchester Road\, Wheaton\, IL\, 60187\, United States
ATTACH;FMTTYPE=image/gif:https://dupagecountyfair.org/wp-content/uploads/2021/10/cef4e4f11a97d5b872cfd6778a8afd9d.gif
END:VEVENT
BEGIN:VEVENT
DTSTART;VALUE=DATE:20240216
DTEND;VALUE=DATE:20240219
DTSTAMP:20260424T194532
CREATED:20240117T211010Z
LAST-MODIFIED:20240117T211016Z
UID:10000406-1708041600-1708300799@dupagecountyfair.org
SUMMARY:2024 USA Archery Indoor Nationals
DESCRIPTION:USA ARCHERY – INDOOR NATIONALS & JOAD INDOOR NATIONALSFebruary 16-18th\, 2024Building(s): 1 \nhttps://illinoistargetarchery.org/2024-usa-archery-indoor-nationals/
URL:https://dupagecountyfair.org/event/2024-usa-archery-indoor-nationals/
LOCATION:DuPage County Fairgrounds\, 2015 Manchester Road\, Wheaton\, IL\, 60187\, United States
ATTACH;FMTTYPE=image/png:https://dupagecountyfair.org/wp-content/uploads/2022/01/ITAA_2021_final_color_1.25aspect.png
END:VEVENT
BEGIN:VEVENT
DTSTART;VALUE=DATE:20240219
DTEND;VALUE=DATE:20240220
DTSTAMP:20260424T194532
CREATED:20240118T213943Z
LAST-MODIFIED:20250116T224724Z
UID:10000434-1708300800-1708387199@dupagecountyfair.org
SUMMARY:GLENBARD ALL BREED OBEDIENCE CLUB
DESCRIPTION:Building(s): 2\,3 \nhttps://www.gaboc.org/
URL:https://dupagecountyfair.org/event/glenbard-all-breed-obedience-club/2024-02-19/
LOCATION:DuPage County Fairgrounds\, 2015 Manchester Road\, Wheaton\, IL\, 60187\, United States
ATTACH;FMTTYPE=image/gif:https://dupagecountyfair.org/wp-content/uploads/2021/10/cef4e4f11a97d5b872cfd6778a8afd9d.gif
END:VEVENT
BEGIN:VEVENT
DTSTART;VALUE=DATE:20240220
DTEND;VALUE=DATE:20240221
DTSTAMP:20260424T194532
CREATED:20240118T213943Z
LAST-MODIFIED:20250116T224724Z
UID:10000435-1708387200-1708473599@dupagecountyfair.org
SUMMARY:GLENBARD ALL BREED OBEDIENCE CLUB
DESCRIPTION:Building(s): 2\,3 \nhttps://www.gaboc.org/
URL:https://dupagecountyfair.org/event/glenbard-all-breed-obedience-club/2024-02-20/
LOCATION:DuPage County Fairgrounds\, 2015 Manchester Road\, Wheaton\, IL\, 60187\, United States
ATTACH;FMTTYPE=image/gif:https://dupagecountyfair.org/wp-content/uploads/2021/10/cef4e4f11a97d5b872cfd6778a8afd9d.gif
END:VEVENT
BEGIN:VEVENT
DTSTART;VALUE=DATE:20240224
DTEND;VALUE=DATE:20240226
DTSTAMP:20260424T194533
CREATED:20240117T211407Z
LAST-MODIFIED:20240129T213455Z
UID:10000407-1708732800-1708905599@dupagecountyfair.org
SUMMARY:62ND ANNUAL BENEFIT EXTRAVAGANZA CFA ALLBREED CAT SHOW
DESCRIPTION:LINCOLN STATE CAT CLUB\, INC.62ND ANNUAL BENEFIT EXTRAVAGANZA CFA ALLBREED CAT SHOWFebruary 24\, 25\, 2024Building(s): 1 \nhttps://www.facebook.com/groups/256494941613178/
URL:https://dupagecountyfair.org/event/62nd-annual-benefit-extravaganza-cfa-allbreed-cat-show/
LOCATION:DuPage County Fairgrounds\, 2015 Manchester Road\, Wheaton\, IL\, 60187\, United States
ATTACH;FMTTYPE=image/jpeg:https://dupagecountyfair.org/wp-content/uploads/2024/01/24spectator2.jpg
END:VEVENT
BEGIN:VEVENT
DTSTART;TZID=America/Chicago:20240225T090000
DTEND;TZID=America/Chicago:20240225T140000
DTSTAMP:20260424T194533
CREATED:20230926T160657Z
LAST-MODIFIED:20230926T160703Z
UID:10000403-1708851600-1708869600@dupagecountyfair.org
SUMMARY:83rd ILLINOIS PLASTIC KIT & TOY SHOW
DESCRIPTION:Sunday\, February 25\, 20249am – 2pmBuilding(s): 2 & 3​
URL:https://dupagecountyfair.org/event/83rd-illinois-plastic-kit-toy-show/
LOCATION:DuPage County Fairgrounds\, 2015 Manchester Road\, Wheaton\, IL\, 60187\, United States
ATTACH;FMTTYPE=image/jpeg:https://dupagecountyfair.org/wp-content/uploads/2023/09/FEB-2024-2-COLOR-BORDER.jpg
END:VEVENT
BEGIN:VEVENT
DTSTART;VALUE=DATE:20240226
DTEND;VALUE=DATE:20240227
DTSTAMP:20260424T194533
CREATED:20240118T213943Z
LAST-MODIFIED:20250116T224724Z
UID:10000436-1708905600-1708991999@dupagecountyfair.org
SUMMARY:GLENBARD ALL BREED OBEDIENCE CLUB
DESCRIPTION:Building(s): 2\,3 \nhttps://www.gaboc.org/
URL:https://dupagecountyfair.org/event/glenbard-all-breed-obedience-club/2024-02-26/
LOCATION:DuPage County Fairgrounds\, 2015 Manchester Road\, Wheaton\, IL\, 60187\, United States
ATTACH;FMTTYPE=image/gif:https://dupagecountyfair.org/wp-content/uploads/2021/10/cef4e4f11a97d5b872cfd6778a8afd9d.gif
END:VEVENT
BEGIN:VEVENT
DTSTART;VALUE=DATE:20240227
DTEND;VALUE=DATE:20240302
DTSTAMP:20260424T194533
CREATED:20240226T190407Z
LAST-MODIFIED:20240226T190419Z
UID:10000524-1708992000-1709337599@dupagecountyfair.org
SUMMARY:UNILOCK CONTRACTOR ADVANTAGE SEMINAR
DESCRIPTION:Feb. 27 – Mar. 1\, 2024Building(s): 1 \nhttps://contractor.unilock.com/uni_events/contractor-advantage-seminar-28/
URL:https://dupagecountyfair.org/event/unilock-contractor-advantage-seminar/
LOCATION:DuPage County Fairgrounds\, 2015 Manchester Road\, Wheaton\, IL\, 60187\, United States
ATTACH;FMTTYPE=image/png:https://dupagecountyfair.org/wp-content/uploads/2024/02/unilock-contractor-advantage-events-logo.png
END:VEVENT
BEGIN:VEVENT
DTSTART;VALUE=DATE:20240227
DTEND;VALUE=DATE:20240228
DTSTAMP:20260424T194533
CREATED:20240118T213943Z
LAST-MODIFIED:20250116T224724Z
UID:10000437-1708992000-1709078399@dupagecountyfair.org
SUMMARY:GLENBARD ALL BREED OBEDIENCE CLUB
DESCRIPTION:Building(s): 2\,3 \nhttps://www.gaboc.org/
URL:https://dupagecountyfair.org/event/glenbard-all-breed-obedience-club/2024-02-27/
LOCATION:DuPage County Fairgrounds\, 2015 Manchester Road\, Wheaton\, IL\, 60187\, United States
ATTACH;FMTTYPE=image/gif:https://dupagecountyfair.org/wp-content/uploads/2021/10/cef4e4f11a97d5b872cfd6778a8afd9d.gif
END:VEVENT
END:VCALENDAR