BEGIN:VCALENDAR
VERSION:2.0
PRODID:-//DuPage Event Center &amp; Fairgrounds. - ECPv6.15.20//NONSGML v1.0//EN
CALSCALE:GREGORIAN
METHOD:PUBLISH
X-WR-CALNAME:DuPage Event Center &amp; Fairgrounds.
X-ORIGINAL-URL:https://dupagecountyfair.org
X-WR-CALDESC:Events for DuPage Event Center &amp; Fairgrounds.
REFRESH-INTERVAL;VALUE=DURATION:PT1H
X-Robots-Tag:noindex
X-PUBLISHED-TTL:PT1H
BEGIN:VTIMEZONE
TZID:America/Chicago
BEGIN:DAYLIGHT
TZOFFSETFROM:-0600
TZOFFSETTO:-0500
TZNAME:CDT
DTSTART:20240310T080000
END:DAYLIGHT
BEGIN:STANDARD
TZOFFSETFROM:-0500
TZOFFSETTO:-0600
TZNAME:CST
DTSTART:20241103T070000
END:STANDARD
BEGIN:DAYLIGHT
TZOFFSETFROM:-0600
TZOFFSETTO:-0500
TZNAME:CDT
DTSTART:20250309T080000
END:DAYLIGHT
BEGIN:STANDARD
TZOFFSETFROM:-0500
TZOFFSETTO:-0600
TZNAME:CST
DTSTART:20251102T070000
END:STANDARD
BEGIN:DAYLIGHT
TZOFFSETFROM:-0600
TZOFFSETTO:-0500
TZNAME:CDT
DTSTART:20260308T080000
END:DAYLIGHT
BEGIN:STANDARD
TZOFFSETFROM:-0500
TZOFFSETTO:-0600
TZNAME:CST
DTSTART:20261101T070000
END:STANDARD
END:VTIMEZONE
BEGIN:VEVENT
DTSTART;TZID=America/Chicago:20250504T090000
DTEND;TZID=America/Chicago:20250504T150000
DTSTAMP:20260422T220043
CREATED:20241122T211915Z
LAST-MODIFIED:20241122T211922Z
UID:10000558-1746349200-1746370800@dupagecountyfair.org
SUMMARY:Great Midwest Train Show
DESCRIPTION:9am – 3pmBuilding(s): 1\, 2\, 3 \nhttps://www.greenbergshows.com/gmtspages/gmts
URL:https://dupagecountyfair.org/event/great-midwest-train-show-2/2025-05-04/
LOCATION:DuPage County Fairgrounds\, 2015 Manchester Road\, Wheaton\, IL\, 60187\, United States
ATTACH;FMTTYPE=image/png:https://dupagecountyfair.org/wp-content/uploads/2022/10/213078157_483647596015824_7207030422614365128_n.png
END:VEVENT
BEGIN:VEVENT
DTSTART;VALUE=DATE:20250505
DTEND;VALUE=DATE:20250506
DTSTAMP:20260422T220043
CREATED:20240118T213943Z
LAST-MODIFIED:20250116T224724Z
UID:10000629-1746403200-1746489599@dupagecountyfair.org
SUMMARY:GLENBARD ALL BREED OBEDIENCE CLUB
DESCRIPTION:Building(s): 2\,3 \nhttps://www.gaboc.org/
URL:https://dupagecountyfair.org/event/glenbard-all-breed-obedience-club/2025-05-05/
LOCATION:DuPage County Fairgrounds\, 2015 Manchester Road\, Wheaton\, IL\, 60187\, United States
ATTACH;FMTTYPE=image/gif:https://dupagecountyfair.org/wp-content/uploads/2021/10/cef4e4f11a97d5b872cfd6778a8afd9d.gif
END:VEVENT
BEGIN:VEVENT
DTSTART;VALUE=DATE:20250506
DTEND;VALUE=DATE:20250507
DTSTAMP:20260422T220043
CREATED:20240118T213943Z
LAST-MODIFIED:20250116T224724Z
UID:10000630-1746489600-1746575999@dupagecountyfair.org
SUMMARY:GLENBARD ALL BREED OBEDIENCE CLUB
DESCRIPTION:Building(s): 2\,3 \nhttps://www.gaboc.org/
URL:https://dupagecountyfair.org/event/glenbard-all-breed-obedience-club/2025-05-06/
LOCATION:DuPage County Fairgrounds\, 2015 Manchester Road\, Wheaton\, IL\, 60187\, United States
ATTACH;FMTTYPE=image/gif:https://dupagecountyfair.org/wp-content/uploads/2021/10/cef4e4f11a97d5b872cfd6778a8afd9d.gif
END:VEVENT
BEGIN:VEVENT
DTSTART;TZID=America/Chicago:20250510T100000
DTEND;TZID=America/Chicago:20250510T160000
DTSTAMP:20260422T220043
CREATED:20250115T210410Z
LAST-MODIFIED:20250121T181858Z
UID:10000580-1746871200-1746892800@dupagecountyfair.org
SUMMARY:FIREFLY CANDLE MARKET
DESCRIPTION:Saturday\, May 10\, 202510am – 4pmBuilding(s): 1https://www.fireflycandlemarket.com/fireflymarket
URL:https://dupagecountyfair.org/event/firefly-candle-market/
LOCATION:DuPage County Fairgrounds\, 2015 Manchester Road\, Wheaton\, IL\, 60187\, United States
END:VEVENT
BEGIN:VEVENT
DTSTART;VALUE=DATE:20250512
DTEND;VALUE=DATE:20250513
DTSTAMP:20260422T220043
CREATED:20240118T213943Z
LAST-MODIFIED:20250116T224724Z
UID:10000631-1747008000-1747094399@dupagecountyfair.org
SUMMARY:GLENBARD ALL BREED OBEDIENCE CLUB
DESCRIPTION:Building(s): 2\,3 \nhttps://www.gaboc.org/
URL:https://dupagecountyfair.org/event/glenbard-all-breed-obedience-club/2025-05-12/
LOCATION:DuPage County Fairgrounds\, 2015 Manchester Road\, Wheaton\, IL\, 60187\, United States
ATTACH;FMTTYPE=image/gif:https://dupagecountyfair.org/wp-content/uploads/2021/10/cef4e4f11a97d5b872cfd6778a8afd9d.gif
END:VEVENT
BEGIN:VEVENT
DTSTART;VALUE=DATE:20250513
DTEND;VALUE=DATE:20250514
DTSTAMP:20260422T220043
CREATED:20240118T213943Z
LAST-MODIFIED:20250116T224724Z
UID:10000632-1747094400-1747180799@dupagecountyfair.org
SUMMARY:GLENBARD ALL BREED OBEDIENCE CLUB
DESCRIPTION:Building(s): 2\,3 \nhttps://www.gaboc.org/
URL:https://dupagecountyfair.org/event/glenbard-all-breed-obedience-club/2025-05-13/
LOCATION:DuPage County Fairgrounds\, 2015 Manchester Road\, Wheaton\, IL\, 60187\, United States
ATTACH;FMTTYPE=image/gif:https://dupagecountyfair.org/wp-content/uploads/2021/10/cef4e4f11a97d5b872cfd6778a8afd9d.gif
END:VEVENT
BEGIN:VEVENT
DTSTART;VALUE=DATE:20250519
DTEND;VALUE=DATE:20250520
DTSTAMP:20260422T220043
CREATED:20240118T213943Z
LAST-MODIFIED:20250116T224724Z
UID:10000633-1747612800-1747699199@dupagecountyfair.org
SUMMARY:GLENBARD ALL BREED OBEDIENCE CLUB
DESCRIPTION:Building(s): 2\,3 \nhttps://www.gaboc.org/
URL:https://dupagecountyfair.org/event/glenbard-all-breed-obedience-club/2025-05-19/
LOCATION:DuPage County Fairgrounds\, 2015 Manchester Road\, Wheaton\, IL\, 60187\, United States
ATTACH;FMTTYPE=image/gif:https://dupagecountyfair.org/wp-content/uploads/2021/10/cef4e4f11a97d5b872cfd6778a8afd9d.gif
END:VEVENT
BEGIN:VEVENT
DTSTART;VALUE=DATE:20250520
DTEND;VALUE=DATE:20250521
DTSTAMP:20260422T220043
CREATED:20240118T213943Z
LAST-MODIFIED:20250116T224724Z
UID:10000634-1747699200-1747785599@dupagecountyfair.org
SUMMARY:GLENBARD ALL BREED OBEDIENCE CLUB
DESCRIPTION:Building(s): 2\,3 \nhttps://www.gaboc.org/
URL:https://dupagecountyfair.org/event/glenbard-all-breed-obedience-club/2025-05-20/
LOCATION:DuPage County Fairgrounds\, 2015 Manchester Road\, Wheaton\, IL\, 60187\, United States
ATTACH;FMTTYPE=image/gif:https://dupagecountyfair.org/wp-content/uploads/2021/10/cef4e4f11a97d5b872cfd6778a8afd9d.gif
END:VEVENT
END:VCALENDAR